BEGIN:VCALENDAR
VERSION:2.0
PRODID:spatie/icalendar-generator
NAME:Flimsfestival
X-WR-CALNAME:Flimsfestival
BEGIN:VTIMEZONE
TZID:Europe/Zurich
BEGIN:DAYLIGHT
DTSTART:20250330T020000Z
TZOFFSETFROM:+0100
TZOFFSETTO:+0200
END:DAYLIGHT
BEGIN:STANDARD
DTSTART:20251026T030000Z
TZOFFSETFROM:+0200
TZOFFSETTO:+0100
END:STANDARD
END:VTIMEZONE
BEGIN:VTIMEZONE
TZID:UTC
BEGIN:STANDARD
DTSTART:20240430T161320Z
TZOFFSETFROM:+0000
TZOFFSETTO:+0000
END:STANDARD
END:VTIMEZONE
BEGIN:VEVENT
UID:kulturtag-nachtwache
DTSTAMP:20250125T161320Z
SUMMARY:Flimsfestival: Kulturtag - Boccherinis Nachtwache
DESCRIPTION:Der nächtlichen Klangkulisse seiner Wahlheimat Madrid widmete 
 Boccherini sein Quintettino. In ihm gab er seiner Neigung zur naturalistis
 chen Klangmalerei so weit nach\, dass er selbst glaubte\, niemand könne d
 as Stück verstehen\, der Madrid nicht kennt. Glücklicherweise liess er s
 ich trotz dieser Bedenken zur Veröffentlichung des Werkes überreden\, da
 s zu seinen fantasievollsten Partituren zählt: “La Musica notturna dell
 e Strade di Madrid
LOCATION:Via da Fidaz 15\, 7019 Fidaz
URL:
DTSTART;TZID=Europe/Zurich:20250809T210000
DTEND;TZID=Europe/Zurich:20250809T214000
END:VEVENT
END:VCALENDAR