BEGIN:VCALENDAR
VERSION:2.0
PRODID:spatie/icalendar-generator
NAME:Flimsfestival
X-WR-CALNAME:Flimsfestival
BEGIN:VTIMEZONE
TZID:Europe/Zurich
BEGIN:DAYLIGHT
DTSTART:20250330T020000Z
TZOFFSETFROM:+0100
TZOFFSETTO:+0200
END:DAYLIGHT
BEGIN:STANDARD
DTSTART:20251026T030000Z
TZOFFSETFROM:+0200
TZOFFSETTO:+0100
END:STANDARD
END:VTIMEZONE
BEGIN:VTIMEZONE
TZID:UTC
BEGIN:STANDARD
DTSTART:20240430T161438Z
TZOFFSETFROM:+0000
TZOFFSETTO:+0000
END:STANDARD
END:VTIMEZONE
BEGIN:VEVENT
UID:alpenrose
DTSTAMP:20250125T161438Z
SUMMARY:Flimsfestival: Alpenrose
DESCRIPTION:St. Peter ist ein Dörflein in den Alpen. Da entdeckt Josef Gad
 mer wie aus dem Nichts Gold werden kann – er erfindet den Fremdenverkehr
 . Aus seinem Heimetli macht er die «Alpenrose» und bald wird daraus das 
 «Grand Resort Roses des Alpes». Alles blüht und allen geht es gut und a
 lles wird anders. Die Suite erzählt in Worten\, Musik\, Gesang und Bilder
 n den wundersamen Wandel vom Dörfli zur Stadt in den Bergen. Sie berichte
 t den Lebensfaden der Familie Gadmer – Bauern\, Zuckerbäcker\, Hotelier
 s\, Bergbähnler\, Gemeindepräsidenten\, Bankiers und Musiker. Und dann f
 ällt der Schnee aus und auch sonst wird vieles anders – aber die Famili
 e Gadmer findet den Rank. Unser Flimsfestival ist Musik plus.... Geschicht
 en\, heute von und mit dem legendären Köbi Gantenbein und seinen nicht w
 eniger illustren Bündner Kollegen.
LOCATION:Via Nova 66\, 7017 Flims Dorf
URL:
DTSTART;TZID=Europe/Zurich:20250810T110000
DTEND;TZID=Europe/Zurich:20250810T121000
END:VEVENT
END:VCALENDAR