BEGIN:VCALENDAR
VERSION:2.0
PRODID:spatie/icalendar-generator
NAME:Flimsfestival
X-WR-CALNAME:Flimsfestival
BEGIN:VTIMEZONE
TZID:Europe/Zurich
BEGIN:STANDARD
DTSTART:20251026T030000Z
TZOFFSETFROM:+0200
TZOFFSETTO:+0100
END:STANDARD
BEGIN:DAYLIGHT
DTSTART:20260329T020000Z
TZOFFSETFROM:+0100
TZOFFSETTO:+0200
END:DAYLIGHT
END:VTIMEZONE
BEGIN:VTIMEZONE
TZID:UTC
BEGIN:STANDARD
DTSTART:20240501T112719Z
TZOFFSETFROM:+0000
TZOFFSETTO:+0000
END:STANDARD
END:VTIMEZONE
BEGIN:VEVENT
UID:83suei3820-das-kleine-neujahrskonzert
DTSTAMP:20250126T112719Z
SUMMARY:Flimsfestival: AUSVERKAUFT - Das kleine Neujahrskonzert
DESCRIPTION:«Never change a winning Team» sagten wir uns... und so hören
  Sie zum dritten Mal die drei Herren im Frack an ihren Instrumenten Violin
 e\, Violoncello und Klavier. Unsere schöne\, wenngleich auch junge Tradit
 ion\, ist seit 2020 das «Kleine Neujahrskonzert» am 1. Januar nachmittag
 s im Romantik Hotel Schweizerhof. Um unsere grosse Gästeschar unterzubrin
 gen\, spielen wir sogar zweimal. Im Gegensatz zum grossen Vorbild in Wien 
 erklingen in unserem Konzert auch echte Klassiker\, Dvořáks berühmtes D
 umky-Trio und sein slawischer Tanz op. 72.2. In Dvořáks Musik ist die Li
 ebe des Komponisten zur Musik seiner Heimat in jedem Ton hör- und erlebba
 r. In Kombination mit Johann Strauss wird auch dieses Neujahrskonzert 2026
  wieder zu einer neuen alten Flimser Mischung. Prosit Neujahr!
LOCATION:Rudi Dadens 1\, 7018 Flims Waldhaus
URL:
DTSTART;TZID=Europe/Zurich:20260101T170000
DTEND;TZID=Europe/Zurich:20260101T181000
END:VEVENT
END:VCALENDAR