BEGIN:VCALENDAR
VERSION:2.0
PRODID:spatie/icalendar-generator
NAME:Flimsfestival
X-WR-CALNAME:Flimsfestival
BEGIN:VTIMEZONE
TZID:Europe/Zurich
BEGIN:STANDARD
DTSTART:20221030T030000Z
TZOFFSETFROM:+0200
TZOFFSETTO:+0100
END:STANDARD
BEGIN:DAYLIGHT
DTSTART:20230326T020000Z
TZOFFSETFROM:+0100
TZOFFSETTO:+0200
END:DAYLIGHT
BEGIN:STANDARD
DTSTART:20231029T030000Z
TZOFFSETFROM:+0200
TZOFFSETTO:+0100
END:STANDARD
END:VTIMEZONE
BEGIN:VTIMEZONE
TZID:UTC
BEGIN:STANDARD
DTSTART:20220726T122246Z
TZOFFSETFROM:+0000
TZOFFSETTO:+0000
END:STANDARD
END:VTIMEZONE
BEGIN:VEVENT
UID:5c8e8f3422c83f-klavierquartette
DTSTAMP:20230422T122246Z
SUMMARY:Flimsfestival: AUSVERKAUFT - Zusatzkonzert - Klavierquartette
DESCRIPTION:1785\, mitten in der Arbeit an „Figaros Hochzeit“\, erhielt
  Mozart von seinem Verleger Franz Anton Hoffmeister den Auftrag\, drei Kla
 vierquartette zu schreiben. Entgegen dem damaligen Verständnis einer „b
 eglei-teten Klaviermusik“ hatte Mozart aber eine andere Vorstellung von 
 der Gattung: er strebte einen echten Dialog zwischen Streichern und Klavie
 r an. Damit überforderte er sowohl Interpreten als auch Publikum\, so die
  Schilderung eines reisenden Zeitgenossen: „Es konnte nicht gefallen\; a
 lles gähnte vor Langeweile über dem unverständlichen Tintamarre von 4 I
 nstrumenten\, die nicht in vier Takten zusammen passten…“ Die uns heut
 e so selbstverständlich erscheinende Musik Mozarts hatte seinerzeit durch
 aus den Rang einer Avantgarde. Dass Mozart ein sogenanntes „Wunderkind
 “ war\, ist allgemein bekannt. Dass ihm Felix Mendelssohn diesbezüglich
  problemlos das Wasser reichen konnte\, hingegen nicht: mit 12 Jahren schr
 ieb dieser sein Opus 1\, das Klavierquartett c-Moll. Formal orientierte si
 ch der junge Musiker ganz klar an Mozarts klassischem Stil\, inhaltlich is
 t sein Frühwerk eine Vorwegnahme seines Schaffens: brilliant und virtuos\
 , kontrapunktisch raffiniert\, melodisch ausgesungen sowohl in den schnell
 en als auch in den langsamen Sätzen\, die an spätere „Lieder ohne Wort
 e“ erinnern\, und immer wieder blitzt auch ein Moment aus der Musik zum 
 „Sommernachtstraum“ auf. Der Saal im Dachstock des „Casti Aspermont
 “ ist geradezu prädestiniert für diese zwei filigranen Kammermusikwerk
 e und trägt mit seinem unvergleichlichen Ambiente zu einem unvergessliche
 n Konzerterlebnis bei.
LOCATION:Via Sum las Cuorts 2\, 7152 Sagogn
URL:
DTSTART;TZID=Europe/Zurich:20230723T160000
DTEND;TZID=Europe/Zurich:20230723T170000
END:VEVENT
END:VCALENDAR