BEGIN:VCALENDAR
VERSION:2.0
PRODID:spatie/icalendar-generator
NAME:Flimsfestival
X-WR-CALNAME:Flimsfestival
BEGIN:VTIMEZONE
TZID:Europe/Zurich
BEGIN:STANDARD
DTSTART:20231029T030000Z
TZOFFSETFROM:+0200
TZOFFSETTO:+0100
END:STANDARD
BEGIN:DAYLIGHT
DTSTART:20240331T020000Z
TZOFFSETFROM:+0100
TZOFFSETTO:+0200
END:DAYLIGHT
END:VTIMEZONE
BEGIN:VTIMEZONE
TZID:UTC
BEGIN:STANDARD
DTSTART:20220521T113906Z
TZOFFSETFROM:+0000
TZOFFSETTO:+0000
END:STANDARD
END:VTIMEZONE
BEGIN:VEVENT
UID:5c8e8f3422c83c-silvesterkonzert
DTSTAMP:20230215T113906Z
SUMMARY:Flimsfestival: Silvesterkonzert
DESCRIPTION:Das Konzert mit der grössten Tradition\, schon zum 22. Mal:&nb
 sp\;Bachs Musik diente vielen Komponisten der späteren Generationen als V
 orbild\, so auch dem Brasilianer Villa-Lobos mit seinen „Bachianas Brasi
 leiras“\, von denen eine Bearbeitung für zwei Celli gespielt wird. Weit
 ere Bearbeitungen von Werken Bachs und seiner Söhne sowie Originalwerke v
 on Zeitgenossen umrahmen die südamerikanische Kontrapunktstudie\, gerade 
 noch im alten Jahr. Ein kurzes Konzert\, eine besondere Atmosphäre\, kurz
  vor „Prosit Neujahr“!
LOCATION:Davont Esch\, 7017 Flims Dorf
URL:
DTSTART;TZID=Europe/Zurich:20231231T220000
DTEND;TZID=Europe/Zurich:20231231T224000
END:VEVENT
END:VCALENDAR