BEGIN:VCALENDAR
VERSION:2.0
PRODID:spatie/icalendar-generator
NAME:Flimsfestival
X-WR-CALNAME:Flimsfestival
BEGIN:VTIMEZONE
TZID:Europe/Zurich
BEGIN:STANDARD
DTSTART:20231029T030000Z
TZOFFSETFROM:+0200
TZOFFSETTO:+0100
END:STANDARD
BEGIN:DAYLIGHT
DTSTART:20240331T020000Z
TZOFFSETFROM:+0100
TZOFFSETTO:+0200
END:DAYLIGHT
END:VTIMEZONE
BEGIN:VTIMEZONE
TZID:UTC
BEGIN:STANDARD
DTSTART:20220521T113815Z
TZOFFSETFROM:+0000
TZOFFSETTO:+0000
END:STANDARD
END:VTIMEZONE
BEGIN:VEVENT
UID:5c8e8f3422c83b-sternenstaub
DTSTAMP:20230215T113815Z
SUMMARY:Flimsfestival: Sternenstaub
DESCRIPTION:Das Weihnachtskonzert in der Kirche Laax ist schon zur Traditio
 n geworden. Diesmal ist die Flötistin und Alte-Musik-Spezialistin Nadja C
 amichel aus Bern mit dabei. Das Streichquartett gilt als die klassische Ka
 mmermusik-Besetzung schlechthin. Indem die erste Violine durch eine Flöte
  ersetzt wird\, erweitert sich das Klangspektrum der Streichinstrumente um
  eine Dimension – weihnächtlicher Sternenstaub! Für diese reizvolle Be
 setzung entstanden zur Zeit der Klassik unzählige Werke. Wir kombinieren 
 Bekanntes mit Un-bekanntem und spielen neben einem der berühmten Mozart-Q
 uartette Werke von zwei seiner Zeitgenossen aus Italien: Während Luigi Bo
 ccherini\, aus Lucca stammend\, in Spanien lebte\, wirkte Giuseppe Maria C
 ambini in Paris. Beiden gemeinsam ist eine Fülle von unbekannten Kammermu
 sikwerken\, die zu entdecken es sich auf jeden Fall lohnt!
LOCATION:Via Principala 74\, 7031 Laax
URL:
DTSTART;TZID=Europe/Zurich:20231227T180000
DTEND;TZID=Europe/Zurich:20231227T191000
END:VEVENT
END:VCALENDAR