BEGIN:VCALENDAR
VERSION:2.0
PRODID:spatie/icalendar-generator
NAME:Flimsfestival
X-WR-CALNAME:Flimsfestival
BEGIN:VTIMEZONE
TZID:Europe/Zurich
BEGIN:DAYLIGHT
DTSTART:20230326T020000Z
TZOFFSETFROM:+0100
TZOFFSETTO:+0200
END:DAYLIGHT
BEGIN:STANDARD
DTSTART:20231029T030000Z
TZOFFSETFROM:+0200
TZOFFSETTO:+0100
END:STANDARD
END:VTIMEZONE
BEGIN:VTIMEZONE
TZID:UTC
BEGIN:STANDARD
DTSTART:20220521T113403Z
TZOFFSETFROM:+0000
TZOFFSETTO:+0000
END:STANDARD
END:VTIMEZONE
BEGIN:VEVENT
UID:5c8e8f3422c836-emma-kirkby
DTSTAMP:20230215T113403Z
SUMMARY:Flimsfestival: Emma Kirkby
DESCRIPTION:Unser traditionelles Flimser Osterkonzert konnte 2020 nicht sta
 ttfinden\, umso mehr freuen wir uns nun\, dass es endlich nachgeholt werde
 n kann. Die englische Sopranistin Dame Emma Kirkby wurde als Pionierin der
  historischen Auffüh-rungspraxis weltberühmt. Bescheiden geblieben ist s
 ie immer\, auch nachdem sie von der Queen 2007 in den Ritterstand erhoben 
 wurde. Und sie ist voller Enthusiasmus für die Musik\, die sie singt und 
 die sie seit vielen Jahren auch als gefragte Gesangslehrerin unter-richtet
 . Ihren 70. Geburtstag feierte sie unlängst mit einem Konzert in der Wigm
 ore Hall in London. Auf dem heutigen&nbsp\;&nbsp\;Programm stehen englisch
 e Barockkompositionen des späten 17. und frühen 18. Jahrhunderts. Faszin
 iert und beeinflusst gleichermassen schielten diese auf die Kompositionen 
 ihrer italienischen Kollegen. Diese ver-arbeiteten sie zusammen mit tradit
 ionell-heimischem Liedgut zu einer einzigartigen Mischung\, so wie Thomas 
 Arne in seiner Kantate „The morning“: die Natur beobachtend\, feinfüh
 lig und temperamentvoll zugleich\, verspielt und verziert. Hörenswerte So
 nnenstrahlen!
LOCATION:Via Sorts sura 11\, 7018 Flims Waldhaus
URL:
DTSTART;TZID=Europe/Zurich:20230813T170000
DTEND;TZID=Europe/Zurich:20230813T181000
END:VEVENT
END:VCALENDAR