BEGIN:VCALENDAR
VERSION:2.0
PRODID:spatie/icalendar-generator
NAME:Flimsfestival
X-WR-CALNAME:Flimsfestival
BEGIN:VTIMEZONE
TZID:Europe/Zurich
BEGIN:DAYLIGHT
DTSTART:20230326T020000Z
TZOFFSETFROM:+0100
TZOFFSETTO:+0200
END:DAYLIGHT
BEGIN:STANDARD
DTSTART:20231029T030000Z
TZOFFSETFROM:+0200
TZOFFSETTO:+0100
END:STANDARD
END:VTIMEZONE
BEGIN:VTIMEZONE
TZID:UTC
BEGIN:STANDARD
DTSTART:20220521T113325Z
TZOFFSETFROM:+0000
TZOFFSETTO:+0000
END:STANDARD
END:VTIMEZONE
BEGIN:VEVENT
UID:5c8e8f3422c835-heilige-barbara
DTSTAMP:20230215T113325Z
SUMMARY:Flimsfestival: Heilige Barbara
DESCRIPTION:Erhoben eingangs Flims überwachte ein kleiner Hügel den Saumw
 eg und spielte einst eine stolze Rolle. Dieser Hügel hiess schon im Mitte
 lalter „Marcau“\, was darauf hindeutet\, dass hier Märkte stattfanden
 . Auf der Kuppe des Hügels stand die der heiligen Elisabeth geweihte Kape
 lle\, daneben lag der Friedhof\, der zum Siechenhaus gehörte. 1488\, so i
 st nachzulesen\, war der „beschaidene Claus Schrepfer von Flims“ hier 
 Mesmer und hatte die „Cappel“ mit Kerzen zu versorgen. Elisabeth\, die
  thüringische Gräfin\, war vor der Reformation die milde&nbsp\;&nbsp\;Be
 schützerin der Armen\, Aussätzigen und (Pest)-Kranken. Noch heute lassen
  sich zwischen den Haselstauden die Fundamente der beiden Häuser erkennen
 . Vermutlich war dieser Hügel aber schon in urgeschichtlicher Zeit besied
 elt.An diesem historisch bedeutsamen und vergessenen Ort also möchten wir
  Gottesdienst feiern. Musikalisch umrahmt in einer spannenden Mischung zwi
 schen Renaissancemusik und eigenen Improvisationen der beiden Musiker. Leb
 endige Geschichte aus einer bewegten Vergangenheit.
LOCATION:Sontga Sbetta\, Flims Dorf
URL:
DTSTART;TZID=Europe/Zurich:20230813T100000
DTEND;TZID=Europe/Zurich:20230813T110000
END:VEVENT
END:VCALENDAR