BEGIN:VCALENDAR
VERSION:2.0
PRODID:spatie/icalendar-generator
NAME:Flimsfestival
X-WR-CALNAME:Flimsfestival
BEGIN:VTIMEZONE
TZID:Europe/Zurich
BEGIN:DAYLIGHT
DTSTART:20230326T020000Z
TZOFFSETFROM:+0100
TZOFFSETTO:+0200
END:DAYLIGHT
BEGIN:STANDARD
DTSTART:20231029T030000Z
TZOFFSETFROM:+0200
TZOFFSETTO:+0100
END:STANDARD
END:VTIMEZONE
BEGIN:VTIMEZONE
TZID:UTC
BEGIN:STANDARD
DTSTART:20220521T113237Z
TZOFFSETFROM:+0000
TZOFFSETTO:+0000
END:STANDARD
END:VTIMEZONE
BEGIN:VEVENT
UID:5c8e8f3422c834-wie-im-cafe-zimmermann
DTSTAMP:20230215T113237Z
SUMMARY:Flimsfestival: AUSVERKAUFT - Wie im Café Zimmermann
DESCRIPTION:Wir übernehmen für einmal die Tradition der Leipziger Bäcker
 ei-Konzerte im Zimmermannschen Kaffeehaus. Das Collegium Musicum trat wöc
 hentlich unter der Leitung Telemanns und Bachs auf\, um die 150 Gäste wä
 hrend zweier Stunden zu unterhalten. Der Konditor spendete ein Cembalo und
  den Kontrabass und wohl auch manches Stück Kuchen. Wir treffen uns vor e
 inem historischen Flimser Backhaus\, bevor wir in die neue Backstube der 5
 0 Jahre alten Bäckerei Crest wechseln. Die Solo-Oboistin des Luzerner Sin
 fonieorchesters Andrea Bischoff schafft es zusammen mit ihren Musiker-Koll
 eg*innen\, sich trotz frisch duftender Backwaren auf das Wesentliche – d
 ie Musik – zu konzentrieren.
LOCATION:Via Arviul 1\, 7017 Flims
URL:
DTSTART;TZID=Europe/Zurich:20230812T180000
DTEND;TZID=Europe/Zurich:20230812T200000
END:VEVENT
END:VCALENDAR