BEGIN:VCALENDAR
VERSION:2.0
PRODID:spatie/icalendar-generator
NAME:Flimsfestival
X-WR-CALNAME:Flimsfestival
BEGIN:VTIMEZONE
TZID:Europe/Zurich
BEGIN:DAYLIGHT
DTSTART:20230326T020000Z
TZOFFSETFROM:+0100
TZOFFSETTO:+0200
END:DAYLIGHT
BEGIN:STANDARD
DTSTART:20231029T030000Z
TZOFFSETFROM:+0200
TZOFFSETTO:+0100
END:STANDARD
END:VTIMEZONE
BEGIN:VTIMEZONE
TZID:UTC
BEGIN:STANDARD
DTSTART:20220521T113200Z
TZOFFSETFROM:+0000
TZOFFSETTO:+0000
END:STANDARD
END:VTIMEZONE
BEGIN:VEVENT
UID:5c8e8f3422c833-piazzolla
DTSTAMP:20230215T113200Z
SUMMARY:Flimsfestival: Piazzolla
DESCRIPTION:Das berühmteste Zelt der Schweiz ist in Flims: Das legendäre 
 Zelt der Familie Knie\, während zweier Jahre als Ersatzstandort der Laaxe
 r „Freestyle Academy“ genutzt. Sind „Trampolin\, Airtrack\, Bagjump
 “ Fremdworte für Sie? Dann wird es höchste Zeit\, dass Sie Europas ers
 te Freestyle-Halle\, „the place to be“ für alle\, ob auf Ski\, auf d
 em Snowboard\, als Skater oder Biker\, kennen lernen. Sie werden sich frag
 en\, ob in diesem Zelt die Schwerkraft ausser Betrieb gesetzt wurde! In ei
 ner der Bahnen werden wir heute spielen\, aber keine Angst\, Sie dürfen z
 um Zuhören auf einem ganz herkömmlichen Stuhl sitzen. Mit dabei ist der 
 argentinische Bandoneon-Meister Marcelo Nisinman\, der weltweit mit grosse
 n Künstler*innen wie Martha Argerich und Gidon Kremer auftritt. Die „Nu
 evo Tango“-Musik des argentinischen Komponisten Astor Piazzolla erlebte 
 in den vergangenen Jahren ein veritables Revival. Das letztjährige „Pia
 zzolla“-Programm unseres Ensembles war so beliebt\, dass auch wir es wie
 deraufleben lassen.
LOCATION:Via Prau la Selva 6\, 7018 Flims Waldhaus
URL:
DTSTART;TZID=Europe/Zurich:20230812T103000
DTEND;TZID=Europe/Zurich:20230812T114000
END:VEVENT
END:VCALENDAR