BEGIN:VCALENDAR
VERSION:2.0
PRODID:spatie/icalendar-generator
NAME:Flimsfestival
X-WR-CALNAME:Flimsfestival
BEGIN:VTIMEZONE
TZID:Europe/Zurich
BEGIN:DAYLIGHT
DTSTART:20230326T020000Z
TZOFFSETFROM:+0100
TZOFFSETTO:+0200
END:DAYLIGHT
BEGIN:STANDARD
DTSTART:20231029T030000Z
TZOFFSETFROM:+0200
TZOFFSETTO:+0100
END:STANDARD
END:VTIMEZONE
BEGIN:VTIMEZONE
TZID:UTC
BEGIN:STANDARD
DTSTART:20220521T112953Z
TZOFFSETFROM:+0000
TZOFFSETTO:+0000
END:STANDARD
END:VTIMEZONE
BEGIN:VEVENT
UID:5c8e8f3422c831-hornviecher
DTSTAMP:20230215T112953Z
SUMMARY:Flimsfestival: Hornviecher
DESCRIPTION:Balthasar Streiff\, bekannt vom Duo Stimmhorn\, von Hornroh Mod
 ern Alphorn Quartet oder als Alphorn- und Büchelsolist\, führt uns heute
  in seine&nbsp\;Welt als experimentierfreudiger&nbsp\;Geschichtenerzähler
 \, Instrumentenbauer und Klangtüftler. Er portraitiert die zwölf Lebewes
 en – Kühe\, Ziegen und Schafe – die alle ihr Leben lassen mussten\, e
 rzählt deren Geschichten und erweckt sie durch das Spielen ihrer Hörner 
 noch einmal zum Leben. Kaum ein Künstler ist so vielseitig wie Balthasar 
 Streiff. Die Liste der von ihm gespielten Blasinstrumente Alphorn\, Büche
 l\, Euphonium\, Trompete und Zink liesse sich noch um unzählige Instrumen
 te erweitern\, passend zum heutigen Programm wohl am besten mit „Tierhö
 rner und Artverwandtes“. Er studierte nicht nur Jazz und Alte Musik\, so
 ndern auch freie Bildhauerei\, setzte sich jahrelang mit dem Schweizer Kul
 tinstrument Alphorn auseinander und arbeitete stets an der Schnittstelle v
 on Musik\, Raum und Klang.&nbsp\;
LOCATION:Via da Fidaz 15\, 7019 Fidaz
URL:
DTSTART;TZID=Europe/Zurich:20230810T180000
DTEND;TZID=Europe/Zurich:20230810T213000
END:VEVENT
END:VCALENDAR