BEGIN:VCALENDAR
VERSION:2.0
PRODID:spatie/icalendar-generator
NAME:Flimsfestival
X-WR-CALNAME:Flimsfestival
BEGIN:VTIMEZONE
TZID:Europe/Zurich
BEGIN:STANDARD
DTSTART:20221030T030000Z
TZOFFSETFROM:+0200
TZOFFSETTO:+0100
END:STANDARD
BEGIN:DAYLIGHT
DTSTART:20230326T020000Z
TZOFFSETFROM:+0100
TZOFFSETTO:+0200
END:DAYLIGHT
BEGIN:STANDARD
DTSTART:20231029T030000Z
TZOFFSETFROM:+0200
TZOFFSETTO:+0100
END:STANDARD
END:VTIMEZONE
BEGIN:VTIMEZONE
TZID:UTC
BEGIN:STANDARD
DTSTART:20220521T111322Z
TZOFFSETFROM:+0000
TZOFFSETTO:+0000
END:STANDARD
END:VTIMEZONE
BEGIN:VEVENT
UID:5c8e8f3422c82d-kinderfest
DTSTAMP:20230215T111322Z
SUMMARY:Flimsfestival: Kinderfest
DESCRIPTION:Unser diesjähriges Geschenk an das Kinderfest Laax ist die Auf
 führung des Grimm-Märchens „Der gestiefelte Kater“. Seit mehr als 20
 0 Jahren ist diese Geschichte ein Klassiker. Wir leiden mit dem enttäusch
 ten Müllers-Sohn\, der nur einen Kater erbt. Dieser schafft es aber dank 
 guter Ideen\, aus seinem Herrn am Schluss den neuen König zu machen\, rei
 ch\, stolz und glücklich. Und der Kater selber wird der erste Minister. U
 nd wenn sie nicht gestorben sind\, dann... hören Sie die ganze Geschichte
 \, humorvoll angereichert mit Bildern und Filmsequenzen und mit Musik unte
 rmalt! Gemeinsam freuen wir uns auf die List des Katers\, den Zauberer auf
 zufressen. Vom riesigen Besucheraufmarsch im vergangenen Sommer beglückt\
 , halten wir an diesem Format gerne weiter fest und sind auf die Badeszene
  im See gespannt... musikalisch. &nbsp\;
LOCATION:Via Grava 43\, 7031 Laax
URL:
DTSTART;TZID=Europe/Zurich:20230723T103000
DTEND;TZID=Europe/Zurich:20230723T111500
END:VEVENT
END:VCALENDAR