BEGIN:VCALENDAR
VERSION:2.0
PRODID:spatie/icalendar-generator
NAME:Flimsfestival
X-WR-CALNAME:Flimsfestival
BEGIN:VTIMEZONE
TZID:Europe/Zurich
BEGIN:STANDARD
DTSTART:20221030T030000Z
TZOFFSETFROM:+0200
TZOFFSETTO:+0100
END:STANDARD
BEGIN:DAYLIGHT
DTSTART:20230326T020000Z
TZOFFSETFROM:+0100
TZOFFSETTO:+0200
END:DAYLIGHT
BEGIN:STANDARD
DTSTART:20231029T030000Z
TZOFFSETFROM:+0200
TZOFFSETTO:+0100
END:STANDARD
END:VTIMEZONE
BEGIN:VTIMEZONE
TZID:UTC
BEGIN:STANDARD
DTSTART:20220521T111110Z
TZOFFSETFROM:+0000
TZOFFSETTO:+0000
END:STANDARD
END:VTIMEZONE
BEGIN:VEVENT
UID:5c8e8f3422c82b-klassik-open-air-2
DTSTAMP:20230215T111110Z
SUMMARY:Flimsfestival: Klassik open air (2)
DESCRIPTION:Die junge Geigerin Sira Eigenmann\, Finalistin in der Casting-S
 endung „Stadt Land Talent“ und Intendantin des Ensembles „Tango Nueo
 vo“ ist zweifellos eine der unkonventionellsten Geigerinnen der neuen Ge
 neration. Sie definiert im zweiten Teil des Abends die Grenze zwischen Kla
 ssik und Pop\, Tango oder Kammermusik neu. Mitreissende Rhythmen\, sehn-s
 üchtige Glissandi und packende Begleitklänge ziehen uns in ihren Bann. P
 iazzollas Jahreszeiten sind inspiriert durch das berühmte Vorbild Vivaldi
 s\, aber in die heutige Sprache übersetzt und südamerikanisch beeinfluss
 t. Stillsitzen geht nicht mehr. Der Titel dieser vier Tangos muss im Deuts
 chen umständlich mit „Die vier Jahreszeiten von Buenos Aires“ überse
 tzt werden\, während es auf spanisch viel einfacher ist: der Ausdruck „
 porteño“ bezeichnet einfach die Einwohner der argentinischen Hauptstadt
  und alles\, was zu ihrer Stadt gehört. Piazzolla wollte in diesen vier u
 mfangreichen Tangos zeigen\, wie sich die Jahreszeiten auf der Südhalbkug
 el der Erde darstellen\, in seiner Heimat und im Erleben der Porteños und
  Porteñas. Er schuf damit ein lateinamerikanisches Gegenstück zu Antonio
  Vivaldis Vier Jahreszeiten.&nbsp\;
LOCATION:Via sorts sut 16\, 7018 Flims
URL:
DTSTART;TZID=Europe/Zurich:20230722T200000
DTEND;TZID=Europe/Zurich:20230722T204000
END:VEVENT
END:VCALENDAR