BEGIN:VCALENDAR
VERSION:2.0
PRODID:spatie/icalendar-generator
NAME:Flimsfestival
X-WR-CALNAME:Flimsfestival
BEGIN:VTIMEZONE
TZID:Europe/Zurich
BEGIN:STANDARD
DTSTART:20221030T030000Z
TZOFFSETFROM:+0200
TZOFFSETTO:+0100
END:STANDARD
BEGIN:DAYLIGHT
DTSTART:20230326T020000Z
TZOFFSETFROM:+0100
TZOFFSETTO:+0200
END:DAYLIGHT
BEGIN:STANDARD
DTSTART:20231029T030000Z
TZOFFSETFROM:+0200
TZOFFSETTO:+0100
END:STANDARD
END:VTIMEZONE
BEGIN:VTIMEZONE
TZID:UTC
BEGIN:STANDARD
DTSTART:20220521T111003Z
TZOFFSETFROM:+0000
TZOFFSETTO:+0000
END:STANDARD
END:VTIMEZONE
BEGIN:VEVENT
UID:5c8e8f3422c82a-klassik-open-air-1
DTSTAMP:20230215T111003Z
SUMMARY:Flimsfestival: Klassik open air (1)
DESCRIPTION:Ein neues Format\, eine Hommage an Flims und mit freiem Eintrit
 t eine Einladung an alle Flimserinnen und Flimser\, uns zuzuhören. Auf de
 r wunderschönen grossen Wiese des Schulinternats\, mit Blick auf die Fopp
 a und die Tschingelhörner\, erklingt ein dreiteiliger Abend\, inklusiv ku
 linarischem Angebot\, Panorama \, untergehender Sonne und dreimal verschie
 dener Musik.Den Beginn macht das Cello-Ensemble „Crescelli“. Wer letzt
 es Jahr beim Strassen-Kultur-Tag mit dabei war\, kann sich bestimmt an den
  mitreissenden Auftritt der jungen Cellist*innen erinnern. Die Begeisterun
 g war auf allen Seiten so gross\, dass wir uns nun das volle Programm anh
 ören möchten. Sechs Cellist*innen aus Leidenschaft und die Begeisterung\
 , am und mit dem Cello zu experimentieren. Von Bach bis Lady Gaga schlagen
 \, zupfen und streichen sich Crescelli quer durch die Genres. Ein Geheimti
 pp!
LOCATION:Via sorts sut 16\, 7018 Flims
URL:
DTSTART;TZID=Europe/Zurich:20230722T190000
DTEND;TZID=Europe/Zurich:20230720T194000
END:VEVENT
END:VCALENDAR