BEGIN:VCALENDAR
VERSION:2.0
PRODID:spatie/icalendar-generator
NAME:Flimsfestival
X-WR-CALNAME:Flimsfestival
BEGIN:VTIMEZONE
TZID:Europe/Zurich
BEGIN:STANDARD
DTSTART:20221030T030000Z
TZOFFSETFROM:+0200
TZOFFSETTO:+0100
END:STANDARD
BEGIN:DAYLIGHT
DTSTART:20230326T020000Z
TZOFFSETFROM:+0100
TZOFFSETTO:+0200
END:DAYLIGHT
BEGIN:STANDARD
DTSTART:20231029T030000Z
TZOFFSETFROM:+0200
TZOFFSETTO:+0100
END:STANDARD
END:VTIMEZONE
BEGIN:VTIMEZONE
TZID:UTC
BEGIN:STANDARD
DTSTART:20220521T110859Z
TZOFFSETFROM:+0000
TZOFFSETTO:+0000
END:STANDARD
END:VTIMEZONE
BEGIN:VEVENT
UID:5c8e8f3422c829-musik-zur-nacht
DTSTAMP:20230215T110859Z
SUMMARY:Flimsfestival: Musik zur Nacht
DESCRIPTION:50 Kerzen erhellen die dunkle Kirche St. Remigius und begleiten
  Musiker und Zuhörer*innen während der Musik zur Nacht. Das Programm rei
 cht von Lauten-Liedern aus Renaissance und Frühbarock bis zu Eigenkomposi
 tionen. MacHale und Harmelin sind in Basel in der Szene der Alten Musik t
 ätig\, Seit Jahren spezialisierten sich die beiden Musiker in dem Bereich
  der historischen Aufführungspraxis. Dennoch ist es ihnen ein Anliegen\, 
 die Musik zum hier und jetzt zu bringen\, lebendig zu machen\, zum Atmen z
 u bringen. Dazu überwinden sie Grenzen zwischen Stilen und Zeiten. Fusion
  nicht „for Fusion’s sake” sondern als ein natürliches Resultat ein
 es musikalischen Prozesses. So kommt es\, dass die Klänge aus Renaissance
  und Frühbarock mit einigen Exkursionen in andere Epochen angereichert we
 rden.
LOCATION:Kirche St. Remigius\, 7153 Falera
URL:
DTSTART;TZID=Europe/Zurich:20230721T201500
DTEND;TZID=Europe/Zurich:20230721T211000
END:VEVENT
END:VCALENDAR