BEGIN:VCALENDAR
VERSION:2.0
PRODID:spatie/icalendar-generator
NAME:Flimsfestival
X-WR-CALNAME:Flimsfestival
BEGIN:VTIMEZONE
TZID:Europe/Zurich
BEGIN:STANDARD
DTSTART:20221030T030000Z
TZOFFSETFROM:+0200
TZOFFSETTO:+0100
END:STANDARD
BEGIN:DAYLIGHT
DTSTART:20230326T020000Z
TZOFFSETFROM:+0100
TZOFFSETTO:+0200
END:DAYLIGHT
BEGIN:STANDARD
DTSTART:20231029T030000Z
TZOFFSETFROM:+0200
TZOFFSETTO:+0100
END:STANDARD
END:VTIMEZONE
BEGIN:VTIMEZONE
TZID:UTC
BEGIN:STANDARD
DTSTART:20220521T110807Z
TZOFFSETFROM:+0000
TZOFFSETTO:+0000
END:STANDARD
END:VTIMEZONE
BEGIN:VEVENT
UID:5c8e8f3422c828-nyckelharpa
DTSTAMP:20230215T110807Z
SUMMARY:Flimsfestival: Nyckelharpa
DESCRIPTION:Nun wird unser Wunsch\, ein Konzert im Pavillon von Nicolaus Ha
 rtmann zu veranstalten\, endlich Realität. Ein ganz spezieller Bau\, dazu
  die unge-wöhnlichste und berührendste Musik von einer der ganz grossen 
 Künstlerinnen des Nordens. Mit ihrem sehr speziellen Instrument\, der Nyc
 kelharpa\, erzählt uns Emilia Amper musikalisch aus ihrem Leben\, der Her
 kunft der nordischen Melodien und der Sehnsucht nach Weite\, Helligkeit un
 d Licht.Die Solistin hat nicht nur Nyckelharpa\, sondern auch Fiedel\, Mus
 ikwissenschaft und Komposition studiert und konzertiert heute auf der ganz
 en Welt. Ausgehend von traditioneller schwedischer Musik arrangiert und ko
 mponiert sie Musik\, die ganz auf ihr Instrument zugeschnitten ist. Die Zu
 sammenarbeit mit Musiker*innen aus anderen Kulturkreisen erweiterte ihr mu
 sikalisches Spektrum und inspirierte sie zu neuen Klängen. Die Musik übe
 rwindet sprachliche und kulturelle Grenzen – diesem Grundsatz widmet Emi
 lia Amper ihr Leben!
LOCATION:Via dil Parc 3\, 7018 Flims Waldhaus
URL:
DTSTART;TZID=Europe/Zurich:20230720T200000
DTEND;TZID=Europe/Zurich:20230720T211000
END:VEVENT
END:VCALENDAR