BEGIN:VCALENDAR
VERSION:2.0
PRODID:spatie/icalendar-generator
NAME:Flimsfestival
X-WR-CALNAME:Flimsfestival
BEGIN:VTIMEZONE
TZID:Europe/Zurich
BEGIN:STANDARD
DTSTART:20221030T030000Z
TZOFFSETFROM:+0200
TZOFFSETTO:+0100
END:STANDARD
BEGIN:DAYLIGHT
DTSTART:20230326T020000Z
TZOFFSETFROM:+0100
TZOFFSETTO:+0200
END:DAYLIGHT
BEGIN:STANDARD
DTSTART:20231029T030000Z
TZOFFSETFROM:+0200
TZOFFSETTO:+0100
END:STANDARD
END:VTIMEZONE
BEGIN:VTIMEZONE
TZID:UTC
BEGIN:STANDARD
DTSTART:20220521T110723Z
TZOFFSETFROM:+0000
TZOFFSETTO:+0000
END:STANDARD
END:VTIMEZONE
BEGIN:VEVENT
UID:5c8e8f3422c827-kulturreise
DTSTAMP:20230215T110723Z
SUMMARY:Flimsfestival: Kulturreise
DESCRIPTION:Niemand würde denken\, dass sich in der von aussen unscheinbar
 en Casa Lechmann in Sumvitg ein Theatersaal mit intakten Bühnenbildern au
 s der Zeit um 1900 befindet. Unsere schon traditionelle Kulturreise eröff
 net einen Blick in dieses denkwürdige Gebäude\, und auch der musikalisch
 e Aspekt darf nicht fehlen. Ebenfalls einen Besuch wert ist die berühmte 
 Caplutta Sogn Benedetg. Als die barocke Kapelle 1984 durch eine Lawine zer
 stört wurde\, schrieb das Kloster Disentis als Eigentümer einen Architek
 turwettbewerb aus\, den der Haldensteiner Architekt Peter Zumthor gewann\,
  und so wurde an einem anderen Standort eine neue Kapelle gebaut\, anders 
 als in der historischen Tradition aus Holz. Durch das Sonnenlicht wird sie
  dunkel\, schwarz im Süden\, silbergrau im Norden\, wie die alten Bauernh
 äuser. Die blattartige oder tropfenförmige Grundform\, die von einem hal
 ben Unendlichkeitszeichen abgeleitet ist\, beruht auf einer klaren geometr
 ischen Ordnung. Die Raum-form\, abgehoben vom Gelände\, erinnert an ein B
 oot in Bewegung. Im Innern erscheint die Einheit von Dach und Stützen als
  grosser Baldachin. Die silberne Wand hinter den Stützen wird durch das v
 on oben einfallende Licht erhellt und vermittelt dem Raum die spezielle St
 immung.&nbsp\;
LOCATION:7175 Sumvitg
URL:
DTSTART;TZID=Europe/Zurich:20230719T150000
DTEND;TZID=Europe/Zurich:20230719T180000
END:VEVENT
END:VCALENDAR