BEGIN:VCALENDAR
VERSION:2.0
PRODID:spatie/icalendar-generator
NAME:Flimsfestival
X-WR-CALNAME:Flimsfestival
BEGIN:VTIMEZONE
TZID:Europe/Zurich
BEGIN:STANDARD
DTSTART:20221030T030000Z
TZOFFSETFROM:+0200
TZOFFSETTO:+0100
END:STANDARD
BEGIN:DAYLIGHT
DTSTART:20230326T020000Z
TZOFFSETFROM:+0100
TZOFFSETTO:+0200
END:DAYLIGHT
BEGIN:STANDARD
DTSTART:20231029T030000Z
TZOFFSETFROM:+0200
TZOFFSETTO:+0100
END:STANDARD
END:VTIMEZONE
BEGIN:VTIMEZONE
TZID:UTC
BEGIN:STANDARD
DTSTART:20220521T110633Z
TZOFFSETFROM:+0000
TZOFFSETTO:+0000
END:STANDARD
END:VTIMEZONE
BEGIN:VEVENT
UID:5c8e8f3422c826-bilder-einer-ausstellung
DTSTAMP:20230215T110633Z
SUMMARY:Flimsfestival: Bilder einer Ausstellung
DESCRIPTION:Mussorgskys Meisterwerk ist eine Hommage an seinen im Jahr zuvo
 r verstorbenen Freund\, den Maler Viktor Hartmann. Anlässlich einer Ausst
 ellung zum Gedächtnis Hartmanns kam Mussorgsky der Gedanke\, diese Bilder
  in Töne zu setzen. Wie in einem (Spazier)-Gang durchs Museum wird der Zu
 schauer zum Zuhörer. Die Kompositionen regten durch ihren Reichtum an Kla
 ngfarben schon früh andere Komponisten an\, die Musik zu bearbeiten. Die 
 Adaption für grosses Orchester von Maurice Ravel hat das Werk erst richti
 g bekannt gemacht\, doch wir halten uns heute an die Originalversion für 
 Klavier. Das Werk aus dem Jahr 1874 gilt als Musterbeispiel für Programm-
 Musik und ist eines der meistgespielten Klavierwerke. Viele Werke Hartmann
 s sind unterdessen verschollen\, so dass nicht mehr zu jedem Werk ein Bild
  zugeordnet werden kann. Damit sich das Publikum vorstellen kann\, was Mus
 sorgsky beim Komponieren vor Augen hatte\, haben wir sechs Bilder ausfindi
 g gemacht und stellen sie während des Konzerts aus.Ergänzt wird das Prog
 ramm durch Chopins 1. Ballade op. 23\, die oftmals als Nationalmusik betit
 elt wird\, und Beethovens 31. Sonate op. 110 von „hoher\, ruhiger Feierl
 ichkeit“.
LOCATION:Via Principala 44\, 7014 Trin
URL:
DTSTART;TZID=Europe/Zurich:20230718T200000
DTEND;TZID=Europe/Zurich:20230718T211000
END:VEVENT
END:VCALENDAR