BEGIN:VCALENDAR
VERSION:2.0
PRODID:spatie/icalendar-generator
NAME:Flimsfestival
X-WR-CALNAME:Flimsfestival
BEGIN:VTIMEZONE
TZID:Europe/Zurich
BEGIN:STANDARD
DTSTART:20221030T030000Z
TZOFFSETFROM:+0200
TZOFFSETTO:+0100
END:STANDARD
BEGIN:DAYLIGHT
DTSTART:20230326T020000Z
TZOFFSETFROM:+0100
TZOFFSETTO:+0200
END:DAYLIGHT
BEGIN:STANDARD
DTSTART:20231029T030000Z
TZOFFSETFROM:+0200
TZOFFSETTO:+0100
END:STANDARD
END:VTIMEZONE
BEGIN:VTIMEZONE
TZID:UTC
BEGIN:STANDARD
DTSTART:20220521T110553Z
TZOFFSETFROM:+0000
TZOFFSETTO:+0000
END:STANDARD
END:VTIMEZONE
BEGIN:VEVENT
UID:5c8e8f3422c825-morgenkonzert
DTSTAMP:20230215T110553Z
SUMMARY:Flimsfestival: AUSVERKAUFT - Morgenkonzert
DESCRIPTION:Im vergangenen Jahr wurde das Wagnis zu einem Erfolg\, ein Konz
 ert morgens um sieben Uhr in Laax. Sich vor der Arbeit\, vor dem Wandern o
 der vielleicht sogar vor dem Frühstück Musik anzuhören schien für viel
 e Menschen eine spannende Option zu sein\, so dass wir das Erfolgsmodell a
 uch in Flims erproben. Zu hören sind einige der bekanntesten Melodien der
  Musikgeschichte: Edvard Griegs „Peer Gynt“-Suite. Dass dafür weder e
 in Sinfonieorchester noch ein Konzertflügel anwesend sein muss\, ist der 
 Adaption für Cello und Klavier des deutschen Cellisten Georg Goltermann z
 u verdanken. Obwohl dieser nach seinem Tod völlig unbekannt in Vergessenh
 eit geraten ist\, ist er den meisten Cellist*innen ein Begriff\, da er unz
 ählige Werke für dieses Instrument geschrieben hat. Lassen Sie sich übe
 rzeugen von seiner Adaption von „Peer Gynt“\, Kaffee und Gipfeli inklu
 sive\, im Café: Guten Morgen!
LOCATION:Il Stuz 1\, 7018 Flims
URL:
DTSTART;TZID=Europe/Zurich:20230718T070000
DTEND;TZID=Europe/Zurich:20230718T074500
END:VEVENT
END:VCALENDAR