BEGIN:VCALENDAR
VERSION:2.0
PRODID:spatie/icalendar-generator
NAME:Flimsfestival
X-WR-CALNAME:Flimsfestival
BEGIN:VTIMEZONE
TZID:Europe/Zurich
BEGIN:STANDARD
DTSTART:20221030T030000Z
TZOFFSETFROM:+0200
TZOFFSETTO:+0100
END:STANDARD
BEGIN:DAYLIGHT
DTSTART:20230326T020000Z
TZOFFSETFROM:+0100
TZOFFSETTO:+0200
END:DAYLIGHT
BEGIN:STANDARD
DTSTART:20231029T030000Z
TZOFFSETFROM:+0200
TZOFFSETTO:+0100
END:STANDARD
END:VTIMEZONE
BEGIN:VTIMEZONE
TZID:UTC
BEGIN:STANDARD
DTSTART:20220521T104807Z
TZOFFSETFROM:+0000
TZOFFSETTO:+0000
END:STANDARD
END:VTIMEZONE
BEGIN:VEVENT
UID:5c8e8f3422c821-posthorn
DTSTAMP:20230215T104807Z
SUMMARY:Flimsfestival: Posthorn
DESCRIPTION:Der Postillion (Postkutscher) war früher nicht nur für den Pe
 rsonentransport\, sondern auch für den Transport von Postsendungen zustä
 ndig. Mit dem Posthorn konnte er den Pferdewechselstationen schon im Vorau
 s ankündigen\, welche Art von Post unterwegs war\, wie viele Wagen ankomm
 en werden und wie viele neue Pferde er benötigte. Auch ein Signal zum Ein
 steigen war notwendig\, denn nur zu gerne nutzten die Reisenden die Pausen
 \, um die gequälten Knochen zu erholen oder um ein kühles Bier zu trinke
 n. Ebenso gab es zu dieser Zeit Überfälle oder andere Notsituationen\, h
 ierzu gab es auch ein Notsignal. &nbsp\;Dieses Programm rund um das Postho
 rn stellt die Geschichte der Posthornsignale und auch deren Verwendung bei
  den grossen Komponisten - Mozart\, Haydn und Beethoven - ins Rampenlicht.
  Die romantische Sehnsucht\, welche den Postillion und das Posthorn umgibt
 \, wird berührt in Werken von F. Schubert\, A. Müller und K. Schwertsik.
  Martin Roos wünschte sich schon als 9-jähriges Kind\, Posthorn spielen 
 zu können.&nbsp\; Nach seinen Studien als klassischer Hornist und einem U
 mweg über das Alphorn wird sein Traum nun endlich wahr.&nbsp\;
LOCATION:Via Sorts Sut 3\, 7018 Flims Waldhaus
URL:
DTSTART;TZID=Europe/Zurich:20230715T180000
DTEND;TZID=Europe/Zurich:20230715T200000
END:VEVENT
END:VCALENDAR