BEGIN:VCALENDAR
VERSION:2.0
PRODID:spatie/icalendar-generator
NAME:Flimsfestival
X-WR-CALNAME:Flimsfestival
BEGIN:VTIMEZONE
TZID:Europe/Zurich
BEGIN:STANDARD
DTSTART:20221030T030000Z
TZOFFSETFROM:+0200
TZOFFSETTO:+0100
END:STANDARD
BEGIN:DAYLIGHT
DTSTART:20230326T020000Z
TZOFFSETFROM:+0100
TZOFFSETTO:+0200
END:DAYLIGHT
BEGIN:STANDARD
DTSTART:20231029T030000Z
TZOFFSETFROM:+0200
TZOFFSETTO:+0100
END:STANDARD
END:VTIMEZONE
BEGIN:VTIMEZONE
TZID:UTC
BEGIN:STANDARD
DTSTART:20220521T104704Z
TZOFFSETFROM:+0000
TZOFFSETTO:+0000
END:STANDARD
END:VTIMEZONE
BEGIN:VEVENT
UID:5c8e8f3422c820-strassen-kultur-tag
DTSTAMP:20230215T104704Z
SUMMARY:Flimsfestival: Strassen-Kultur-Tag
DESCRIPTION:Regelmässig anwesende Festivalbesucher*innen wissen es bereits
 : einmal pro Jahr verwandelt sich Flims in ein klingendes Theater! Entlang
  der Hauptstrasse wird musiziert\, getanzt\, gesungen… wer im Dorf unter
 wegs ist\, kann nicht nur zuhören\, sondern auch mitmachen\, so zum Beisp
 iel im alljährlich beliebten Passant*innenchor. Aktive Teilnahme ist gena
 uso gefragt wie zuhören\, staunen\, applaudieren\, Kollektekörbe füllen
 ... Aus der ganzen Schweiz reisen verschiedene junge und junggebliebene En
 sembles an\, um bei hoffentlich strahlendem Wetter unseren Festivalsommer 
 zu eröffnen. Vor der Gästeinformation können ausserdem Tickets für Kon
 zerte mit persönlicher Beratung bestellt und mit etwas Glück bei einer V
 erlosung gewonnen werden.
LOCATION:Via Nova 62\, 7017 Flims
URL:
DTSTART;TZID=Europe/Zurich:20230715T140000
DTEND;TZID=Europe/Zurich:20230715T160000
END:VEVENT
END:VCALENDAR