BEGIN:VCALENDAR
VERSION:2.0
PRODID:spatie/icalendar-generator
NAME:Flimsfestival
X-WR-CALNAME:Flimsfestival
BEGIN:VTIMEZONE
TZID:Europe/Zurich
BEGIN:STANDARD
DTSTART:20221030T030000Z
TZOFFSETFROM:+0200
TZOFFSETTO:+0100
END:STANDARD
BEGIN:DAYLIGHT
DTSTART:20230326T020000Z
TZOFFSETFROM:+0100
TZOFFSETTO:+0200
END:DAYLIGHT
END:VTIMEZONE
BEGIN:VTIMEZONE
TZID:UTC
BEGIN:STANDARD
DTSTART:20220521T104131Z
TZOFFSETFROM:+0000
TZOFFSETTO:+0000
END:STANDARD
END:VTIMEZONE
BEGIN:VEVENT
UID:5c8e8f3422c81f-osterkonzert
DTSTAMP:20230215T104131Z
SUMMARY:Flimsfestival: Osterkonzert
DESCRIPTION:Mehrere musikalische Souvenirs\, also Mitbringsel von einem and
 eren Ort\, sind in diesem Programm zu hören: Romantische Musik für Soloc
 ello und Streicher\, mal virtuos\, mal verträumt und schwelgerisch. Als S
 olist der seinerzeit jüngste Cello-Professor der Schweiz\, mittlerweile u
 m einige Jahre Erfahrung reicher\, was sein Spiel noch unwiderstehlicher m
 acht… Solist und Orchester verbindet eine jahrelange Zusammenarbeit\, vo
 r 15 Jahren realisierten sie ihre erste gemeinsame CD\, die mit dem ECHO-K
 lassik-Preis ausgezeichnet wurde. Ein Konzert\, das dem Publikum schöne E
 rinnerungen an Flims bereiten wird – „Souvenirs de Flims“.
LOCATION:Davont Esch\, 7017 Flims Dorf
URL:
DTSTART;TZID=Europe/Zurich:20230409T170000
DTEND;TZID=Europe/Zurich:20230409T181000
END:VEVENT
END:VCALENDAR