BEGIN:VCALENDAR
VERSION:2.0
PRODID:spatie/icalendar-generator
NAME:Flimsfestival
X-WR-CALNAME:Flimsfestival
BEGIN:VTIMEZONE
TZID:Europe/Zurich
BEGIN:DAYLIGHT
DTSTART:20220327T020000Z
TZOFFSETFROM:+0100
TZOFFSETTO:+0200
END:DAYLIGHT
BEGIN:STANDARD
DTSTART:20221030T030000Z
TZOFFSETFROM:+0200
TZOFFSETTO:+0100
END:STANDARD
BEGIN:DAYLIGHT
DTSTART:20230326T020000Z
TZOFFSETFROM:+0100
TZOFFSETTO:+0200
END:DAYLIGHT
END:VTIMEZONE
BEGIN:VTIMEZONE
TZID:UTC
BEGIN:STANDARD
DTSTART:20210615T171950Z
TZOFFSETFROM:+0000
TZOFFSETTO:+0000
END:STANDARD
END:VTIMEZONE
BEGIN:VEVENT
UID:5c8e8f3422c81e-beatles-film
DTSTAMP:20220312T171950Z
SUMMARY:Flimsfestival: Across The Universe - Beatles-Film
DESCRIPTION:Im Film von 2007\, der für einen Oscar nominiert wurde\, reist
  der englische Werftarbeiter Jude in den 1960er Jahren illegal in die USA\
 , wo er seinen Vater sucht. Er findet ihn als Hausmeister einer renommiert
 en Universität. Dort lernt er den gelangweilten Studenten Max Carrigan ke
 nnen\, freundet sich mit ihm an und verliebt sich in dessen Schwester Lucy
 . Max gibt sein Studium auf und zieht mit Jude nach New York\, wo sie sich
  in der Wohngemeinschaft von Sadie einmieten und JoJo und Prudence kennenl
 ernen. Lucy folgt ihnen nach. Nachdem Max in die Armee einberufen und in d
 en Vietnamkrieg geschickt worden ist\, wird Lucy in einer Gruppe von Fried
 ensaktivisten aktiv\, Jude versucht als Zeichner Fuss zu fassen. Während 
 Jude seine Bilder sprechen lässt\, schliesst sich Lucy einer revolutionä
 ren Gruppe an\, die immer radikaleres Vorgehen gegen die Staatsmacht forde
 rt. Lucy und Jude entfremden sich dadurch. Bei der gewaltsamen Übernahme 
 der University of Columbia wird Lucy von Polizisten bedroht\, der ihr zu H
 ilfe eilende Jude wird festgenommen und ausgewiesen. Max kommt traumatisie
 rt aus Vietnam zurück. Nachdem Jude die USA verlassen hat und zurück nac
 h Liverpool gekehrt ist\, erfährt er\, dass einige von Lucys Kampfgefähr
 ten durch eine selbstgebaute Bombe ums Leben kamen. Jude beschliesst darau
 fhin\, endgültig in die USA zu emigrieren. Wird er dort Lucy wiedersehen?
  Den Film umrahmen 30 Lieder der Beatles\, die von den Schauspielern gesun
 gen werden.
LOCATION:Rudi Dadens 1\, 7018 Flims Waldhaus
URL:
DTSTART;TZID=Europe/Zurich:20220929T220000
DTEND;TZID=Europe/Zurich:20220929T230000
END:VEVENT
END:VCALENDAR