BEGIN:VCALENDAR
VERSION:2.0
PRODID:spatie/icalendar-generator
NAME:Flimsfestival
X-WR-CALNAME:Flimsfestival
BEGIN:VTIMEZONE
TZID:Europe/Zurich
BEGIN:STANDARD
DTSTART:20221030T030000Z
TZOFFSETFROM:+0200
TZOFFSETTO:+0100
END:STANDARD
BEGIN:DAYLIGHT
DTSTART:20230326T020000Z
TZOFFSETFROM:+0100
TZOFFSETTO:+0200
END:DAYLIGHT
END:VTIMEZONE
BEGIN:VTIMEZONE
TZID:UTC
BEGIN:STANDARD
DTSTART:20210402T095900Z
TZOFFSETFROM:+0000
TZOFFSETTO:+0000
END:STANDARD
END:VTIMEZONE
BEGIN:VEVENT
UID:5c8e8f3422c81a-neujahrskonzert
DTSTAMP:20211228T095900Z
SUMMARY:Flimsfestival: Neujahrskonzert
DESCRIPTION:Die Besetzung Violine\, Cello\, Harfe verspricht musikalische U
 nterhaltung abseits ausgetretener Pfade\, und so beginnen wir das Jahr mit
  Unkonventionellem und Unbekanntem. Zu Lebzeiten galt Bernhard Romberg vie
 len als der »Paganini des Violoncellos«. Als Quartett- und Duopartner vo
 n Ludwig van Beethoven ging er ebenso in die Musikgeschichte ein wie mit s
 einer bis heute aktuellen Celloschule und seinen zahlreichen Werken\, die 
 er für das eigene Instrument komponierte\, die aber bedauerlicherweise in
  Vergessenheit geraten sind. Wir engagieren uns für deren Wiederentdeckun
 g! In einem Programm mit Harfe darf natürlich französische Musik nicht f
 ehlen. Mit Jolivets „Pastorales de Noël“ lassen wir uns in weihnächt
 liche Stimmung und vergangene Zeiten versetzen\, genauso wie mit der „Ol
 d English Suite“ von Giles Farnaby. Natürlich spielen wir\, dem Anlass 
 gemäss\, auch einige „Neujahrskonzert-Werke“… Eine erst zwei Jahre 
 alte Tradition entwickelt sich dank riesiger Nachfrage gut: Unser „klein
 es Neujahrskonzert“ durften wir letztes Jahr bereits doppelt spielen. Je
 nseits der Massen begrüssen wir das neue Jahr mit Klasse\, Humor und eine
 m Augenzwinkern.
LOCATION:Rudi Dadens 1\, 7018 Flims Waldhaus
URL:
DTSTART;TZID=Europe/Zurich:20230101T170000
DTEND;TZID=Europe/Zurich:20230101T180000
END:VEVENT
END:VCALENDAR