BEGIN:VCALENDAR
VERSION:2.0
PRODID:spatie/icalendar-generator
NAME:Flimsfestival
X-WR-CALNAME:Flimsfestival
BEGIN:VTIMEZONE
TZID:Europe/Zurich
BEGIN:DAYLIGHT
DTSTART:20220327T020000Z
TZOFFSETFROM:+0100
TZOFFSETTO:+0200
END:DAYLIGHT
BEGIN:STANDARD
DTSTART:20221030T030000Z
TZOFFSETFROM:+0200
TZOFFSETTO:+0100
END:STANDARD
BEGIN:DAYLIGHT
DTSTART:20230326T020000Z
TZOFFSETFROM:+0100
TZOFFSETTO:+0200
END:DAYLIGHT
END:VTIMEZONE
BEGIN:VTIMEZONE
TZID:UTC
BEGIN:STANDARD
DTSTART:20210402T095338Z
TZOFFSETFROM:+0000
TZOFFSETTO:+0000
END:STANDARD
END:VTIMEZONE
BEGIN:VEVENT
UID:5c8e8f3422c818-gian-fontana
DTSTAMP:20211228T095338Z
SUMMARY:Flimsfestival: AUSVERKAUFT - Gian Fontana
DESCRIPTION:Und schon ist wieder Advent\, traditionellerweise feiern wir de
 n 4. Advent in Fidaz\, in diesem Jahr zu Ehren des Fidazer und Flimser Dor
 fschriftstellers\, der weit über die Grenzen der Surselva bekannt geworde
 n ist. Gian Fontana wäre vor wenigen Tagen 125 Jahre alt geworden. Seine 
 Lyrik wurde in hunderten Liedern vertont\, entweder als Sologesang mit Beg
 leitung oder a cappella im vierstimmigen Chorsatz. Er ist im Alter von nur
  38 Jahren gestorben – gedenken wir heute seiner inspirierenden feinen B
 eobachtungsgabe und seiner blühenden Heimatliebe. Gian Fontana war mit Va
 ter und Sohn Tumasch und Benedetg Dolf eng befreundet.&nbsp\; Unter der Le
 itung von Clau Scherrer singt sein Ensemble «Cantus Firmus Surselva» aut
 hentisch und berührend.Im Anschluss an das Konzert gehen wir gemeinsam zu
  seinem Gedenkbrunnen schräg gegenüber der Kirche.
LOCATION:Via da Fidaz 15\, 7019 Fidaz
URL:
DTSTART;TZID=Europe/Zurich:20221218T110000
DTEND;TZID=Europe/Zurich:20221218T120000
END:VEVENT
END:VCALENDAR