BEGIN:VCALENDAR
VERSION:2.0
PRODID:spatie/icalendar-generator
NAME:Flimsfestival
X-WR-CALNAME:Flimsfestival
BEGIN:VTIMEZONE
TZID:Europe/Zurich
BEGIN:DAYLIGHT
DTSTART:20220327T020000Z
TZOFFSETFROM:+0100
TZOFFSETTO:+0200
END:DAYLIGHT
BEGIN:STANDARD
DTSTART:20221030T030000Z
TZOFFSETFROM:+0200
TZOFFSETTO:+0100
END:STANDARD
BEGIN:DAYLIGHT
DTSTART:20230326T020000Z
TZOFFSETFROM:+0100
TZOFFSETTO:+0200
END:DAYLIGHT
END:VTIMEZONE
BEGIN:VTIMEZONE
TZID:UTC
BEGIN:STANDARD
DTSTART:20210402T095144Z
TZOFFSETFROM:+0000
TZOFFSETTO:+0000
END:STANDARD
END:VTIMEZONE
BEGIN:VEVENT
UID:5c8e8f3422c816-beatles
DTSTAMP:20211228T095144Z
SUMMARY:Flimsfestival: Beatles
DESCRIPTION:Wenn es wirklich wichtig war\, kam bei den Beatles ein Streichq
 uartett hinzu. Überhaupt sind klassische Bausteine bei den Beatles eine f
 undamentale Grundlage. So wie manche Songtexte auf Shakespeare hinweisen\,
  schaute sich die Band musikalisch schon mal bei Beethoven um. Die meisten
  Hits der Beatles werden in diesen Tagen 50 Jahre alt. Dies nehmen wir zum
  Anlass\, aus der riesigen Auswahl aller Songs zehn Lieder auszuwählen\, 
 diese zu bearbeiten\, auf den Gesang zu verzichten (!) und eine neue\, ins
 trumentale Sextett-Version vorzustellen. Mit Andi Schnoz an der Gitarre is
 t ein Experte dieses Spezialgebiets an unserer Seite\, dazu kommen die Fl
 öte und das Streichquartett. Wir sind uns sicher\, heute Abend werden die
  Beatles anders klingen als vor 50 Jahren\, aber den Gesang werden Sie nic
 ht vermissen.
LOCATION:Rudi Dadens 1\, 7018 Flims Waldhaus
URL:
DTSTART;TZID=Europe/Zurich:20220929T180000
DTEND;TZID=Europe/Zurich:20220929T190000
END:VEVENT
END:VCALENDAR