BEGIN:VCALENDAR
VERSION:2.0
PRODID:spatie/icalendar-generator
NAME:Flimsfestival
X-WR-CALNAME:Flimsfestival
BEGIN:VTIMEZONE
TZID:Europe/Zurich
BEGIN:STANDARD
DTSTART:20211031T030000Z
TZOFFSETFROM:+0200
TZOFFSETTO:+0100
END:STANDARD
BEGIN:DAYLIGHT
DTSTART:20220327T020000Z
TZOFFSETFROM:+0100
TZOFFSETTO:+0200
END:DAYLIGHT
BEGIN:STANDARD
DTSTART:20221030T030000Z
TZOFFSETFROM:+0200
TZOFFSETTO:+0100
END:STANDARD
END:VTIMEZONE
BEGIN:VTIMEZONE
TZID:UTC
BEGIN:STANDARD
DTSTART:20210402T092709Z
TZOFFSETFROM:+0000
TZOFFSETTO:+0000
END:STANDARD
END:VTIMEZONE
BEGIN:VEVENT
UID:5c8e8f3422c80f-heimat
DTSTAMP:20211228T092709Z
SUMMARY:Flimsfestival: Heimat
DESCRIPTION:Eine Neuentdeckung als flimsfestival-Konzertort: das historisch
 e Gebäude „Löwenberg“\, unmittelbar neben der Ruine der ehemaligen B
 urg Löwenberg oberhalb von Schluein gelegen\, hat eine bewegte Geschichte
  als Kinderheim\, Missionarssitz und Asylzentrum hinter sich. Nach zahlrei
 chen Besitzerwechseln\, angefangen bei den einflussreichen Familien Capol 
 und von Planta bis hin zum Bistum Chur hat sich der Verein Löwenberg Surs
 elva Impact Lab zum Ziel gesetzt\, ein Startup- und Innovationszentrum fü
 r die Förderung von Jungunternehmen aufzubauen. An diesem Ort der Kreativ
 ität und Inspiration erklingt traditionelle Musik für arabische Laute 
 – Oud – aus dem Nahen Osten. Der Oud-Virtuose Nehad El-Sayed\, geboren
  in Kairo\, schloss sein Solistendiplom für arabische Laute mit Auszeichn
 ung ab. Der weltoffene Musiker trat an grossen Festivals in der ganzen Wel
 t auf. 2005 war er Artist in Residence von Pro Helvetia in der Schweiz und
  realisierte in dieser Zeit drei interkulturelle Projekte. Noch im selben 
 Jahr begann er ein Kompositionsstudium an der Hochschule der Künste Bern 
 HKB\, das er mit einem Bachelor und Master in Composition and Theory absch
 loss. In den letzten Jahren in der Schweiz konnte sich Nehad El-Sayed als 
 Oud-Solist einen Namen machen\, es wurden etliche seiner Kompositionen auf
 geführt. Seine Werke bewegen sich – wie auch seine Lebensgeschichte –
  zwischen der orientalischen und der westeuropäischen Kultur. Die Brücke
  zu schlagen zwischen den beiden Welten ist ihm ein grosses Anliegen\, sei
  es in seiner Kompositionssprache\, als auch bei interkulturellen Projekte
 n\, und damit den kulturellen Dialog zu fördern. Eine ungewöhnliche\, ab
 er bereichernde Balance in der ehemaligen Klosterkirche...
LOCATION:Via Casti 52\, 7151 Schluein
URL:
DTSTART;TZID=Europe/Zurich:20220726T200000
DTEND;TZID=Europe/Zurich:20220726T210000
END:VEVENT
END:VCALENDAR