BEGIN:VCALENDAR
VERSION:2.0
PRODID:spatie/icalendar-generator
NAME:Flimsfestival
X-WR-CALNAME:Flimsfestival
BEGIN:VTIMEZONE
TZID:Europe/Zurich
BEGIN:STANDARD
DTSTART:20211031T030000Z
TZOFFSETFROM:+0200
TZOFFSETTO:+0100
END:STANDARD
BEGIN:DAYLIGHT
DTSTART:20220327T020000Z
TZOFFSETFROM:+0100
TZOFFSETTO:+0200
END:DAYLIGHT
BEGIN:STANDARD
DTSTART:20221030T030000Z
TZOFFSETFROM:+0200
TZOFFSETTO:+0100
END:STANDARD
END:VTIMEZONE
BEGIN:VTIMEZONE
TZID:UTC
BEGIN:STANDARD
DTSTART:20210402T090302Z
TZOFFSETFROM:+0000
TZOFFSETTO:+0000
END:STANDARD
END:VTIMEZONE
BEGIN:VEVENT
UID:5c8e8f3422c806-die-moldau
DTSTAMP:20211228T090302Z
SUMMARY:Flimsfestival: AUSVERKAUFT - Die Moldau
DESCRIPTION:Vor knapp 150 Jahren komponierte Smetana dieses berühmteste Be
 ispiel von Programm-Musik\, das dem Fluss Vltava musikalisch folgt\, von d
 er Quelle bis zur Mündung. Das Thema Wasser ist allgegenwärtig\, so pass
 t das Konzert bestens vor die plätschernde Kulisse des Adula SPAs. Währe
 nd der Entstehungszeit des Werks schreibt der Komponist: „Heute habe ich
  einen Ausflug zu den Sankt-Johann Stromschnellen unternommen. Da haben wi
 r Mittag gegessen und sind durch die Wälder bis zum Sankt Johann Tor und 
 danach sind wir mit einem Boot den Strom herab. Hohes Wasser\, der Anblick
  der Landschaft herrlich und grossartig.“ Heute wird „die Moldau“ me
 istens als Orchesterfassung gespielt\, der Erstdruck dieses Werks war jedo
 ch die Fassung für Klavier vierhändig. Zum Auftakt spielen die beiden B
 ündner Pianistinnen Mozarts Sonate\, die er im Alter von 16 Jahren für s
 eine Schwester geschrieben hat – ein kleines Meisterwerk. Als Gegensatz 
 dazu Schuberts grosse f-Moll Fantasie\, komponiert in seinem letzten Leben
 sjahr und eines seiner bedeutendsten Klavierwerke. Kein anderer grosser Ko
 mponist hat so viele Werke für Klavier zu vier Händen hinterlassen wie S
 chubert. Gemeinsames Musizieren\, häufig in geselligem Kreis\, war ein fe
 ster Bestandteil seines Freundeskreises. Mit der Fantasie in f-Moll verlie
 ss Schubert allerdings völlig die Sphäre des Geselligen und schuf ein We
 rk von fast symphonischem Zuschnitt\, dessen elegische Stimmung zu Beginn 
 gleichsam das Motto für das gesamte Werk darstellt. Mit drei ungarischen 
 Tänzen von Johannes Brahms findet das Programm ein fulminantes Ende.
LOCATION:Via Sorts Sut 3\, 7018 Flims Waldhaus
URL:
DTSTART;TZID=Europe/Zurich:20220721T180000
DTEND;TZID=Europe/Zurich:20220721T190000
END:VEVENT
END:VCALENDAR