BEGIN:VCALENDAR
VERSION:2.0
PRODID:spatie/icalendar-generator
NAME:Flimsfestival
X-WR-CALNAME:Flimsfestival
BEGIN:VTIMEZONE
TZID:Europe/Zurich
BEGIN:DAYLIGHT
DTSTART:20180325T020000Z
TZOFFSETFROM:+0100
TZOFFSETTO:+0200
END:DAYLIGHT
BEGIN:STANDARD
DTSTART:20181028T030000Z
TZOFFSETFROM:+0200
TZOFFSETTO:+0100
END:STANDARD
END:VTIMEZONE
BEGIN:VTIMEZONE
TZID:UTC
BEGIN:STANDARD
DTSTART:20170514T201253Z
TZOFFSETFROM:+0000
TZOFFSETTO:+0000
END:STANDARD
END:VTIMEZONE
BEGIN:VEVENT
UID:5a7cb21874551_bach-arien-nuria-richner
DTSTAMP:20180208T201253Z
SUMMARY:Flimsfestival: Bach Arien mit Nuria Richner
DESCRIPTION:In den Kantaten von Johann Sebastian Bach findet sich eine Viel
 zahl wunderbarer Arien für Sopran\, Oboe oder Violine und Basso continuo.
  Eine sorgsam zusammengestellte Auswahl daraus singt die Flimser Sopranist
 in Nuria Richner. Sie wird begleitet von Violine\, Oboe\, Violoncello und 
 Cembalo\, gespielt auf historischen Instrumenten. Zauberhaft! Als Ergänzu
 ng zu Bachs Arien sind drei Instrumentalwerke von Zeitgenossen Bachs zu h
 ören\, darunter ein Trio aus der „Tafelmusik“\, einer der bekannteste
 n Kompositionen Telemanns\; Höhepunkt und gleichzeitig eines der letzten 
 Beispiele höfischer Tafelmusik. Die Komposition richtete sich vor allem a
 n wohlhabende Musikfreunde. Acht Reichstaler kostete der in Kupfer gestoch
 ene Stimmensatz des umfangreichen Werks – ein exorbitanter Preis\, wenn 
 man in Betracht zieht\, dass Johann Sebastian Bach die gleiche Summe erhie
 lt\, um damit das gesamte Orchester\, inklusive Pauken und Trompeten\, fü
 r eine höfische Huldigungsmusik zu entlohnen. Es fanden sich mehr als 200
  Subskribenten\, die bereit waren\, den Kaufpreis im Voraus zu bezahlen\, 
 und deren Name\, Stand und Wohnort in der Erstauflage mitveröffentlicht w
 urde. Die illustre Liste umfasste neben gekrönten Häuptern\, adeligen Da
 men und Kaufleuten auch Musiker und Komponisten aus dem In- und Ausland 
 – darunter auch Georg Friedrich Händel. Telemann\, der zum Zeitpunkt de
 r Veröffentlichung Musikdirektor von Hamburg war\, reimte über seine Ver
 öffentlichung: „Diss Werk wird hoffentlich mir einst zum Ruhm gedeien\,
  Du aber wirst den Wehrt zu keiner Zeit bereuen …“&nbsp\;
LOCATION:Via Sorts Sut 3\, 7018 Flims Waldhaus
URL:
DTSTART;TZID=Europe/Zurich:20180726T180000
DTEND;TZID=Europe/Zurich:20180726T190000
END:VEVENT
END:VCALENDAR