BEGIN:VCALENDAR
VERSION:2.0
PRODID:spatie/icalendar-generator
NAME:Flimsfestival
X-WR-CALNAME:Flimsfestival
BEGIN:VTIMEZONE
TZID:Europe/Zurich
BEGIN:STANDARD
DTSTART:20171029T030000Z
TZOFFSETFROM:+0200
TZOFFSETTO:+0100
END:STANDARD
BEGIN:DAYLIGHT
DTSTART:20180325T020000Z
TZOFFSETFROM:+0100
TZOFFSETTO:+0200
END:DAYLIGHT
BEGIN:STANDARD
DTSTART:20181028T030000Z
TZOFFSETFROM:+0200
TZOFFSETTO:+0100
END:STANDARD
END:VTIMEZONE
BEGIN:VTIMEZONE
TZID:UTC
BEGIN:STANDARD
DTSTART:20170514T201253Z
TZOFFSETFROM:+0000
TZOFFSETTO:+0000
END:STANDARD
END:VTIMEZONE
BEGIN:VEVENT
UID:5a7cb218744c8_wood-works
DTSTAMP:20180208T201253Z
SUMMARY:Flimsfestival: Wood Works
DESCRIPTION:Die Mitglieder des „Danish String Quartet“ verbrachten die 
 meiste Zeit damit\, Meisterwerke des Quartettrepertoires zu spielen\, doch
  nicht umsonst bezeichnen sie sich selbst als „Moderne Wikinger“\, und
  so haben die vier Musiker nach ihren musikalischen Wurzeln geforscht. Sie
  haben skandinavische Volksmelodien für ihre Besetzung arrangiert\, mit j
 azzigen Elementen versetzt und sie auf die Konzertbühnen gebracht. Erstma
 ls auch in Flims sind traditionelle Tänze und Volksmelodien zu hören\, u
 nd die beiden skandinavischen Geigerinnen werden diese mit Informationen a
 us erster Hand anreichern. In den Wäldern des Nordens herrscht eine ganz 
 besondere Stimmung – das einmalige Ambiente des „Livingruhm“ und das
  mitreissende Spiel des Quartetts wird Sie an Trolle\, Feen und Elfen\, an
  Mitternachtssonne und Nordlichter zugleich erinnern... Lassen auch Sie si
 ch in den Norden entführen!
LOCATION:Via Nova 52\, 7017 Flims
URL:
DTSTART;TZID=Europe/Zurich:20180724T200000
DTEND;TZID=Europe/Zurich:20180724T211500
END:VEVENT
END:VCALENDAR