BEGIN:VCALENDAR
VERSION:2.0
PRODID:spatie/icalendar-generator
NAME:Flimsfestival
X-WR-CALNAME:Flimsfestival
BEGIN:VTIMEZONE
TZID:Europe/Zurich
BEGIN:STANDARD
DTSTART:20171029T030000Z
TZOFFSETFROM:+0200
TZOFFSETTO:+0100
END:STANDARD
BEGIN:DAYLIGHT
DTSTART:20180325T020000Z
TZOFFSETFROM:+0100
TZOFFSETTO:+0200
END:DAYLIGHT
BEGIN:STANDARD
DTSTART:20181028T030000Z
TZOFFSETFROM:+0200
TZOFFSETTO:+0100
END:STANDARD
END:VTIMEZONE
BEGIN:VTIMEZONE
TZID:UTC
BEGIN:STANDARD
DTSTART:20170514T201253Z
TZOFFSETFROM:+0000
TZOFFSETTO:+0000
END:STANDARD
END:VTIMEZONE
BEGIN:VEVENT
UID:5a7cb1741gi21_christian-zehnder
DTSTAMP:20180208T201253Z
SUMMARY:Flimsfestival: Christian Zehnder
DESCRIPTION:Christian Zehnder und Matthias Loibner bilden ein Duo\, wie Sie
  es noch nie gehört haben: Christian Zehnder studierte erst die Jazzgitar
 re\, bevor er ein klassisches Gesangsstudium als Bariton abschloss. Weiter
 bildungen in Obertongesang und Körperstimmtechniken führten ihn zum frei
 en\, nonverbalen Singen und in seinen ganz individuellen Musikkosmos\, wel
 cher sich oft an den Schnittpunkten von Performance und Musiktheater beweg
 t. 1996 initiierte er zusammen mit dem Bläser Balthasar Streiff das inter
 national renommierte und zum Kultstatus avancierte Duo Stimmhorn\, mit wel
 chem er mehrfach ausgezeichnet wurde und zahlreiche CDs\, Filme und Musikt
 heater realisierte. Doch auch mit seinen Soloprogrammen führen ihn Konzer
 ttourneen durch die ganze Welt\, und nun zum zweiten Mal auch zu fllimsfes
 tival\, diesmal in Begleitung von Matthias Loibner\, einem der vielleicht 
 drei oder vier professionellen Drehleierspieler\, die es weltweit gibt. Di
 eser ist in den weiten Gefilden des Jazz\, der Weltmusik genauso zuhause w
 ie in der französischen Barockmusik und ist laut Presseartikel der „rad
 ikale Gegenentwurf zum öden Leiermann“. Erstmal arbeitete Zehnder im Pr
 ojekt ”oloid” in live-Konzerten mit dem Drehleiervirtuosen zusammen. A
 ls Duo verschmelzen sie intuitiv zwischen zeitgenössischer Archaik\, alte
 r Musik und Improvisation und schaffen einen ganz eigenen hypnotischen Kla
 ngkosmos.&nbsp\;
LOCATION:Kirche St. Remigius\, 7153 Falera
URL:
DTSTART;TZID=Europe/Zurich:20180723T200000
DTEND;TZID=Europe/Zurich:20180723T210000
END:VEVENT
END:VCALENDAR