BEGIN:VCALENDAR
VERSION:2.0
PRODID:spatie/icalendar-generator
NAME:Flimsfestival
X-WR-CALNAME:Flimsfestival
BEGIN:VTIMEZONE
TZID:Europe/Zurich
BEGIN:STANDARD
DTSTART:20171029T030000Z
TZOFFSETFROM:+0200
TZOFFSETTO:+0100
END:STANDARD
BEGIN:DAYLIGHT
DTSTART:20180325T020000Z
TZOFFSETFROM:+0100
TZOFFSETTO:+0200
END:DAYLIGHT
BEGIN:STANDARD
DTSTART:20181028T030000Z
TZOFFSETFROM:+0200
TZOFFSETTO:+0100
END:STANDARD
END:VTIMEZONE
BEGIN:VTIMEZONE
TZID:UTC
BEGIN:STANDARD
DTSTART:20170514T201253Z
TZOFFSETFROM:+0000
TZOFFSETTO:+0000
END:STANDARD
END:VTIMEZONE
BEGIN:VEVENT
UID:5a7cb1741fa10_bandoneon-le-phenix-kinderfest-laax
DTSTAMP:20180208T201253Z
SUMMARY:Flimsfestival: Kinderkonzert \"Bandoneon\"
DESCRIPTION:Klassische Kultur am Kinderfest Laax\, umrahmt von einer passen
 den Geschichte: In der Dunkelheit des Urwalds lebt eine Mutter mit ihren d
 rei Söhnen. Der Jüngste\, NeNe\, hat Zauberkräfte: Er kann Tiere zum Le
 ben erwecken\, und noch einiges mehr. In diesem poetischen Schöpfungsmyth
 os der Tzotzil-Maya wird seit Jahrhunderten vom Anfang der Zeit und von de
 r Schaffung der Gestirne erzählt. NeNe verwandelt nicht nur seine Brüder
  und seine Mutter\, sondern sich selbst am Ende in die Sonne und schenkt d
 amit der Welt das Licht und das Leben. Umrahmt wird dieses südamerikanisc
 he Märchen von passender Musik: das Stimmführerquartett des „orchester
  le phénix“ begleitet den Bandoneonisten Luciano Jungman. Der Klang sei
 nes Instrumentes ist bestimmt vielen Zuhörenden geläufiger als dessen Na
 me: es handelt sich um eine Art Akkordeon\, das eine zentrale Rolle in der
  Tango-Musik spielt und ihr dieses charakteristische Klangbild verleiht. O
 b melancholisch\, energiegeladen oder virtuos - das Spektrum ist enorm und
  wird\, zusammen mit dem dynamischen Streicherklang\, Jung und Alt begeist
 ern!
LOCATION:Via Principala 39\, 7031 Laax
URL:
DTSTART;TZID=Europe/Zurich:20180722T110000
DTEND;TZID=Europe/Zurich:20180722T114500
END:VEVENT
END:VCALENDAR