BEGIN:VCALENDAR
VERSION:2.0
PRODID:spatie/icalendar-generator
NAME:Flimsfestival
X-WR-CALNAME:Flimsfestival
BEGIN:VTIMEZONE
TZID:Europe/Zurich
BEGIN:STANDARD
DTSTART:20171029T030000Z
TZOFFSETFROM:+0200
TZOFFSETTO:+0100
END:STANDARD
BEGIN:DAYLIGHT
DTSTART:20180325T020000Z
TZOFFSETFROM:+0100
TZOFFSETTO:+0200
END:DAYLIGHT
BEGIN:STANDARD
DTSTART:20181028T030000Z
TZOFFSETFROM:+0200
TZOFFSETTO:+0100
END:STANDARD
END:VTIMEZONE
BEGIN:VTIMEZONE
TZID:UTC
BEGIN:STANDARD
DTSTART:20170514T201253Z
TZOFFSETFROM:+0000
TZOFFSETTO:+0000
END:STANDARD
END:VTIMEZONE
BEGIN:VEVENT
UID:5a7cb1741fa10_bandoneon-le-phenix-festkonzert-laax
DTSTAMP:20180208T201253Z
SUMMARY:Flimsfestival: Festkonzert: Bandoneon und orchester le phénix
DESCRIPTION:Der Bandoneonist\, Komponist und Arrangeur Luciano Jungman ist 
 als Solist und Bandmitglied in Europa und Südamerika unterwegs und präse
 ntiert zusammen mit dem „orchester le phénix“ ein Programm der Gegens
 ätze: Barockmusik von Vivaldi\, Bach und Boccherini\, aber auch von süde
 uropäischen Zeitgenossen\, die nach Südamerika ausgewandert sind\, wird 
 Villa-Lobos und Piazzolla gegenübergestellt – es gibt mehr Parallelen\,
  als man zunächst vermuten würde...In seinen Projekten sucht das “orch
 ester le phénix” stets nach Berührungspunkten zwischen Alter und Neuer
  Musik und setzt diese auf unkonventionelle Art und Weise\, gespielt auf m
 usikalisch höchstem Niveau\, um. Luciano Jungman wird mit seinem hierzula
 nde eher unbekannten Instrument\, dem Bandoneon\, brillieren. Die Barockmu
 sik Südeuropas wurde mit der Auswanderung europäischer Musiker nach Süd
 amerika gebracht\, und das Aufeinandertreffen der Kulturen führte zu erst
 aunlichen musikalischen Ergebnissen: Barockmusik kann ebenso mitreissend s
 ein wie Tango!&nbsp\;
LOCATION:Davont Esch\, 7017 Flims Dorf
URL:
DTSTART;TZID=Europe/Zurich:20180722T180000
DTEND;TZID=Europe/Zurich:20180722T191500
END:VEVENT
END:VCALENDAR