BEGIN:VCALENDAR
VERSION:2.0
PRODID:spatie/icalendar-generator
NAME:Flimsfestival
X-WR-CALNAME:Flimsfestival
BEGIN:VTIMEZONE
TZID:Europe/Zurich
BEGIN:STANDARD
DTSTART:20171029T030000Z
TZOFFSETFROM:+0200
TZOFFSETTO:+0100
END:STANDARD
BEGIN:DAYLIGHT
DTSTART:20180325T020000Z
TZOFFSETFROM:+0100
TZOFFSETTO:+0200
END:DAYLIGHT
BEGIN:STANDARD
DTSTART:20181028T030000Z
TZOFFSETFROM:+0200
TZOFFSETTO:+0100
END:STANDARD
END:VTIMEZONE
BEGIN:VTIMEZONE
TZID:UTC
BEGIN:STANDARD
DTSTART:20170514T201253Z
TZOFFSETFROM:+0000
TZOFFSETTO:+0000
END:STANDARD
END:VTIMEZONE
BEGIN:VEVENT
UID:5a7cb0349b43_strassenkultur
DTSTAMP:20180208T201253Z
SUMMARY:Flimsfestival: Strassenkultur
DESCRIPTION:Was im letzten Sommer in Flims seinen Anfang nahm\, wird nun we
 itergeführt: An einem scheinbar ganz normalen Samstagnachmittag sind viel
 e Leute unterwegs: sie gehen einkaufen\, kehren von einer Wanderung zurüc
 k\, sind unterwegs zum See\, gehen Kaffee trinken… und plötzlich bemerk
 en sie: da klingt und agiert es auf den Strassen und Plätzen in Flims Dor
 f! Vom jungen Streicher- über das klangvolle Blechbläserensemble bis hin
  zur Kleinkunst wird alles zu sehen und hören sein. Der Zirkuswagen des A
 ppenzeller Kulturmobils wartet mit theatralischen Überraschungen auf\, es
  wird Musik aller Sparten gespielt\, vielleicht auch dazu getanzt… lasse
 n Sie sich überraschen auf Ihrem Rundgang durchs Dorf - verweilen Sie an 
 ungewohnten Orten\, lauschen Sie unerhörten Klängen und staunen Sie\, wa
 s es alles zu entdecken gibt!Im roten Theaterwagen wird um 13.00\, 14.00 u
 nd 14.40 Uhr die Geschichte von Findus und Pettersson gespielt\, denen ein
  Fuchs das beschauliche Leben recht durcheinander bringt.&nbsp\;
LOCATION:Via Nova 62\, 7017 Flims
URL:
DTSTART;TZID=Europe/Zurich:20180721T130000
DTEND;TZID=Europe/Zurich:20180721T150000
END:VEVENT
END:VCALENDAR