BEGIN:VCALENDAR
VERSION:2.0
PRODID:spatie/icalendar-generator
NAME:Flimsfestival
X-WR-CALNAME:Flimsfestival
BEGIN:VTIMEZONE
TZID:Europe/Zurich
BEGIN:STANDARD
DTSTART:20171029T030000Z
TZOFFSETFROM:+0200
TZOFFSETTO:+0100
END:STANDARD
BEGIN:DAYLIGHT
DTSTART:20180325T020000Z
TZOFFSETFROM:+0100
TZOFFSETTO:+0200
END:DAYLIGHT
BEGIN:STANDARD
DTSTART:20181028T030000Z
TZOFFSETFROM:+0200
TZOFFSETTO:+0100
END:STANDARD
END:VTIMEZONE
BEGIN:VTIMEZONE
TZID:UTC
BEGIN:STANDARD
DTSTART:20170514T201253Z
TZOFFSETFROM:+0000
TZOFFSETTO:+0000
END:STANDARD
END:VTIMEZONE
BEGIN:VEVENT
UID:5a7cb0349b439_teo-gheorghiu
DTSTAMP:20180208T201253Z
SUMMARY:Flimsfestival: Teo Gheorghiu\n
DESCRIPTION:Teo begann seine Pianistenkarriere im Alter von fünf Jahren un
 d besuchte ab seinem neunten Lebensjahr die Purcell School in London\, ein
  Internat für musikalisch hochbegabte Kinder\, wo er bei William Fong Kla
 vier studierte. \nIn dem Schweizer Film Vitus spielt er einen hochbegabten
  Jungen\; hierfür erhielt er 2007 den Undine Award als bester Filmdebüta
 nt. Die Schlussszene des Films verwendet Liveaufnahmen aus seinem ersten K
 onzert von 2004 in der Tonhalle Zürich\, in dem er das Klavierkonzert von
  Robert Schumann interpretierte. \n\nIm heutigen Konzert aber widmet sich 
 Teo Gheorghiu dem Solorepertoire um die vorvergangene Jahrhundertwende in 
 Ost und West. Um diese Zeit entwickelte sich die Musik wie zu keinem ander
 en Zeitpunkt aus einer regionalen und nationalen Struktur in einen Impress
 ionismus in den verschiedensten Farben und Intensitäten. Neue Spiel- und 
 Kompositionstechniken ermöglichten Werke grösster Tiefe\, aber auch mit 
 Humor\, Kurzweiligkeit\, Unterhaltung und einem Augenzwinkern.
LOCATION:Via Sorts sura 11\, 7018 Flims Waldhaus
URL:
DTSTART;TZID=Europe/Zurich:20180720T190000
DTEND;TZID=Europe/Zurich:20180720T210000
END:VEVENT
END:VCALENDAR