BEGIN:VCALENDAR
VERSION:2.0
PRODID:spatie/icalendar-generator
NAME:Flimsfestival
X-WR-CALNAME:Flimsfestival
BEGIN:VTIMEZONE
TZID:Europe/Zurich
BEGIN:STANDARD
DTSTART:20171029T030000Z
TZOFFSETFROM:+0200
TZOFFSETTO:+0100
END:STANDARD
BEGIN:DAYLIGHT
DTSTART:20180325T020000Z
TZOFFSETFROM:+0100
TZOFFSETTO:+0200
END:DAYLIGHT
BEGIN:STANDARD
DTSTART:20181028T030000Z
TZOFFSETFROM:+0200
TZOFFSETTO:+0100
END:STANDARD
END:VTIMEZONE
BEGIN:VTIMEZONE
TZID:UTC
BEGIN:STANDARD
DTSTART:20170514T201253Z
TZOFFSETFROM:+0000
TZOFFSETTO:+0000
END:STANDARD
END:VTIMEZONE
BEGIN:VEVENT
UID:5a7cb0349b439_der-pianist-aus-vitus-teo-gheorghiu
DTSTAMP:20180208T201253Z
SUMMARY:Flimsfestival: Film \"Vitus\"
DESCRIPTION:Vitus ist ein Bub wie von einem anderen Stern: Er hört so gut 
 wie eine Fledermaus\, spielt wunderbar Klavier und liest schon im Kinderga
 rten den Brockhaus. Kein Wunder\, dass vor allem seine Mutter eine ehrgeiz
 ige Karriere wittert: Vitus soll Pianist werden. Dieser fühlt sich von se
 iner Umgebung zunehmend unverstanden. Wahres Verständnis und innige Freun
 dschaft findet Vitus bei seinem Grossvater (Bruno Ganz)\, einem eigensinni
 gen\, leicht widerborstigen Gebrauchsphilosophen\, der in seiner alten Sch
 reinerei auf dem Land lebt. Ihm gesteht der Bub auch\, lieber einfach norm
 al und wie alle andern zu sein\, als der kleine Mozart oder Einstein\, der
  er nun ist. Zusammen mit dem Grossvater träumt er den Traum des Fliegens
  - und findet dank dessen Hilfe auch den Ausweg\, mit dem er sich dem Druc
 k der Eltern und der Gesellschaft zeitweilig entziehen kann. Nach einem «
 Kopfsprung» lebt Vitus im wahrsten Sinne des Wortes ein Doppelleben\, das
  ihm eine Existenz als normalen Bengel\, aber auch Pianisten und gar am En
 de sagenhaften Börsenphantom erlaubt. Der Erfolgsfilm des bekannten Regis
 sseurs Fredi M. Murer ist eine Liebeserklärung an die Kindheit und an die
  Musik\, leichtfüssig-humorvoll und poetisch erzählt.
LOCATION:Via Sorts sura 11\, 7018 Flims Waldhaus
URL:
DTSTART;TZID=Europe/Zurich:20180720T213000
DTEND;TZID=Europe/Zurich:20180720T233000
END:VEVENT
END:VCALENDAR