BEGIN:VCALENDAR
VERSION:2.0
PRODID:spatie/icalendar-generator
NAME:Flimsfestival
X-WR-CALNAME:Flimsfestival
BEGIN:VTIMEZONE
TZID:Europe/Zurich
BEGIN:STANDARD
DTSTART:20171029T030000Z
TZOFFSETFROM:+0200
TZOFFSETTO:+0100
END:STANDARD
BEGIN:DAYLIGHT
DTSTART:20180325T020000Z
TZOFFSETFROM:+0100
TZOFFSETTO:+0200
END:DAYLIGHT
BEGIN:STANDARD
DTSTART:20181028T030000Z
TZOFFSETFROM:+0200
TZOFFSETTO:+0100
END:STANDARD
END:VTIMEZONE
BEGIN:VTIMEZONE
TZID:UTC
BEGIN:STANDARD
DTSTART:20170514T201253Z
TZOFFSETFROM:+0000
TZOFFSETTO:+0000
END:STANDARD
END:VTIMEZONE
BEGIN:VEVENT
UID:5a7caff61cc3f_bergbahnmusik-d-schnyder
DTSTAMP:20180208T201253Z
SUMMARY:Flimsfestival: Bergbahnmusik
DESCRIPTION:Luftseilbahnen verbinden Menschen und Orte. In diesem Jahr widm
 et sich die Ausstellung im Gelben Haus diesem urschweizerischen Verkehrsmi
 ttel und bedeutendem Kulturgut. Es geht um die Auswirkung auf Landschaft u
 nd Gesellschaft\, Gestaltung der Kabinen und Bahnstationen\, Linienführun
 gen und technische Errungenschaften\, Fragen nach Erhalt\, Weiterentwicklu
 ng und der Zukunft des Transportmittels.Der 1961 in Zürich geborene Danie
 l Schnyder gehört zu den aktivsten und meistgespielten Komponisten seiner
  Generation. Seit 1992 lebt Schnyder\, zugleich Saxofonist und Flötist\, 
 in New York City. Schnyder beschäftigt sich zu gleichen Teilen mit Jazz\,
  klassischer und improvisierter Musik. Sein Personalstil nimmt Einflüsse 
 der Neuen Musik ebenso auf wie alte Musik\, ethnische Musik\, multimediale
  Konzepte und Crossover\, und er bearbeitet Meisterwerke von der Renaissan
 ce bis zum Jazz. Zusammen mit Cellist und Intendant Mathias Kleiböhmer re
 ist er in die Höhe.Die Themen „Berge“\, „Höhen und Tiefen“ sowie
  „Feriengefühle“ spielen in den gespielten Stücken eine Rolle\, sei 
 es in „Summertime“\, „Alpensax“ oder in der Lautmalerei „Assobio
  a jato“\, Villa-Lobos' ungewöhnlichem Duo für Flöte und Violoncello 
 über Düsenjets\, Berge und Geräusche.
LOCATION:Via Nova 60\, 7017 Flims Dorf
URL:
DTSTART;TZID=Europe/Zurich:20180719T200000
DTEND;TZID=Europe/Zurich:20180719T210000
END:VEVENT
END:VCALENDAR