BEGIN:VCALENDAR
VERSION:2.0
PRODID:spatie/icalendar-generator
NAME:Flimsfestival
X-WR-CALNAME:Flimsfestival
BEGIN:VTIMEZONE
TZID:Europe/Zurich
BEGIN:STANDARD
DTSTART:20171029T030000Z
TZOFFSETFROM:+0200
TZOFFSETTO:+0100
END:STANDARD
BEGIN:DAYLIGHT
DTSTART:20180325T020000Z
TZOFFSETFROM:+0100
TZOFFSETTO:+0200
END:DAYLIGHT
BEGIN:STANDARD
DTSTART:20181028T030000Z
TZOFFSETFROM:+0200
TZOFFSETTO:+0100
END:STANDARD
END:VTIMEZONE
BEGIN:VTIMEZONE
TZID:UTC
BEGIN:STANDARD
DTSTART:20170514T201253Z
TZOFFSETFROM:+0000
TZOFFSETTO:+0000
END:STANDARD
END:VTIMEZONE
BEGIN:VEVENT
UID:5a7caf95e4e76_thomas-dobler
DTSTAMP:20180208T201253Z
SUMMARY:Flimsfestival: Thomas Dobler’s New Baroque
DESCRIPTION:Barock – Jazz – Worldmusic – Crossover?„Was Thomas Dobl
 er mit seinem neusten Projekt präsentiert\, ist keine Kreuzung der beiden
  Genres Jazz und Barockmusik\, wie der Begriff Crossover vermuten lassen k
 önnte. Nein\, es handelte sich tatsächlich um eine Verschmelzung beider 
 Stile. Eine musikalische Reise durch das barocke Europa und gleichzeitig e
 in ebenso anspruchsvoller wie begeisternder Diskurs zum Thema Jazz und Bar
 ockmusik. „Thomas Dobler’s New Baroque orientiert sich eng an den Orig
 inalpartituren. Die drei polivalenten Solisten spielen ganze Passagen eins
  zu eins nach\, womit sie sich umgehend als überaus versierte Musiker und
  Virtuosen auswiesen. Besonders interessant wurde es jedoch\, wenn kleine 
 rhythmische Verschiebungen und harmonische Versetzungen plötzlich aufhorc
 hen liessen\, wenn das jeweilige Thema allmählich aus den Fugen geriet\, 
 eine drängende\, entfesselte Intensität annahm. Dann war das möglicherw
 eise Jazz\, möglicherweise aber auch eine neue Kategorie\, möglicherweis
 e einfach Dobler\, bestimmt aber sehr gute Musik.“ (Augsburger Allgemein
 e)
LOCATION:Via Nova 52\, 7017 Flims
URL:
DTSTART;TZID=Europe/Zurich:20180717T200000
DTEND;TZID=Europe/Zurich:20180717T211500
END:VEVENT
END:VCALENDAR