BEGIN:VCALENDAR
VERSION:2.0
PRODID:spatie/icalendar-generator
NAME:Flimsfestival
X-WR-CALNAME:Flimsfestival
BEGIN:VTIMEZONE
TZID:Europe/Zurich
BEGIN:STANDARD
DTSTART:20171029T030000Z
TZOFFSETFROM:+0200
TZOFFSETTO:+0100
END:STANDARD
BEGIN:DAYLIGHT
DTSTART:20180325T020000Z
TZOFFSETFROM:+0100
TZOFFSETTO:+0200
END:DAYLIGHT
BEGIN:STANDARD
DTSTART:20181028T030000Z
TZOFFSETFROM:+0200
TZOFFSETTO:+0100
END:STANDARD
END:VTIMEZONE
BEGIN:VTIMEZONE
TZID:UTC
BEGIN:STANDARD
DTSTART:20170514T195550Z
TZOFFSETFROM:+0000
TZOFFSETTO:+0000
END:STANDARD
END:VTIMEZONE
BEGIN:VEVENT
UID:5a7cad81efa84_forellenquintett
DTSTAMP:20180208T195550Z
SUMMARY:Flimsfestival: Forellenquintett
DESCRIPTION:Das jugendlich-frische ‘Forellenquintett’ ist eine geniale 
 Einheit von konzertant-virtuoser entspannender Unterhaltung und hohem musi
 kalischen Niveau. Schubert hielt sich im Sommer 1819 mit dem befreundeten 
 Sänger Michael Vogl\, dem Interpreten seiner Lieder\, in dessen Geburtsor
 t Steyr auf und erlebte dort eine glückliche Zeit. Er fand in dem bekannt
 en Musikmäzen der Stadt\, dem Bergwerksdirektor Sylvester Paumgartner\, e
 inen besonderen Verehrer seiner Liedkunst. Zur Erinnerung an die glücklic
 hen Tage dort schuf Schubert nach seiner Rückkehr in Wien das mit Kontrab
 ass ungewöhnlich besetzte \,\,Forellenquintett“\; diese Besetzung entsp
 rach einem Wunsch Paumgartners\, dem Schubert dieses Werk widmete. Jener h
 atte sich auch gewünscht\, dass Schuberts Lied „Die Forelle“ zum Best
 andteil eines Satzes und zur Grundlage für Variationen gewählt würde.Sc
 hon mehrere Male waren Heidi- Maria Makkonen\, Rafael Rütti und Mathias K
 leiböhmer als Klaviertrio in Flims zu hören. Auch in erweiterter Besetzu
 ng überzeugen sie durch ihre Virtuosität und ihr perfektes Zusammenspiel
 .&nbsp\;
LOCATION:Via da Fidaz 34\, 7019 Flims
URL:
DTSTART;TZID=Europe/Zurich:20180715T180000
DTEND;TZID=Europe/Zurich:20180715T180000
END:VEVENT
END:VCALENDAR