BEGIN:VCALENDAR
VERSION:2.0
PRODID:spatie/icalendar-generator
NAME:Flimsfestival
X-WR-CALNAME:Flimsfestival
BEGIN:VTIMEZONE
TZID:Europe/Zurich
BEGIN:DAYLIGHT
DTSTART:20260329T020000Z
TZOFFSETFROM:+0100
TZOFFSETTO:+0200
END:DAYLIGHT
BEGIN:STANDARD
DTSTART:20261025T030000Z
TZOFFSETFROM:+0200
TZOFFSETTO:+0100
END:STANDARD
BEGIN:DAYLIGHT
DTSTART:20270328T020000Z
TZOFFSETFROM:+0100
TZOFFSETTO:+0200
END:DAYLIGHT
END:VTIMEZONE
BEGIN:VTIMEZONE
TZID:UTC
BEGIN:STANDARD
DTSTART:20250613T071029Z
TZOFFSETFROM:+0000
TZOFFSETTO:+0000
END:STANDARD
END:VTIMEZONE
BEGIN:VEVENT
UID:2026-12-05-junge-talente
DTSTAMP:20260310T071029Z
SUMMARY:Flimsfestival: Junge Talente
DESCRIPTION:Die Internationale Sommer-Klavierakademie Disentis setzt sich z
 um Ziel\, junge\, talentierte Pianisten und Pianistinnen zu entdecken\, zu
  unterstützen und zu fördern. Der intensive zweiwöchige Kurs in Dise
 ntis bietet jungen Musiker*innen die Gelegenheit\, nicht nur ihr Talent we
 iterzuentwickeln und an ihrem Repertoire in einer äusserst kreativen und
  künstlerischen Atmosphäre zu arbeiten\, sondern auch die erzielten Re
 sultate auf der Konzertbühne zu präsentieren. Die Akademie bringt jung
 e Pianist*innen in Kontakt mit international namhaften Künstlern\, die i
 hr Talent\, ihre Fertigkeit\, ihre Kenntnisse und Inspiration mit ihnen te
 ilen. Schon seit Jahren begleitet uns eine Partnerschaft mit der Klavier- 
 Akademie in Disentis\, indem wir jungen Talenten Möglichkeiten geben\, u
 m sich zu präsentieren. Überwältigt vom hohen Niveau\, der Brillanz 
 und Leistung der jungen Musiker*innen geben wir auch in diesem Jahr eine u
 nserer Lieblingsbühnen frei\, wir öffnen wir den Flügel im Saal des 
 Casti Aspermont für eine junge Pianist*in\, die uns in den Bann ziehen w
 ird.
LOCATION:Via Sum las Cuorts 2\, 7152 Sagogn
URL:
DTSTART;TZID=Europe/Zurich:20261205T190000
DTEND;TZID=Europe/Zurich:20261205T201500
END:VEVENT
END:VCALENDAR