BEGIN:VCALENDAR
VERSION:2.0
PRODID:spatie/icalendar-generator
NAME:Flimsfestival
X-WR-CALNAME:Flimsfestival
BEGIN:VTIMEZONE
TZID:Europe/Zurich
BEGIN:DAYLIGHT
DTSTART:20260329T020000Z
TZOFFSETFROM:+0100
TZOFFSETTO:+0200
END:DAYLIGHT
BEGIN:STANDARD
DTSTART:20261025T030000Z
TZOFFSETFROM:+0200
TZOFFSETTO:+0100
END:STANDARD
END:VTIMEZONE
BEGIN:VTIMEZONE
TZID:UTC
BEGIN:STANDARD
DTSTART:20250613T065730Z
TZOFFSETFROM:+0000
TZOFFSETTO:+0000
END:STANDARD
END:VTIMEZONE
BEGIN:VEVENT
UID:2026-09-17-rondo-veneziano
DTSTAMP:20260310T065730Z
SUMMARY:Flimsfestival: Rondo Veneziano
DESCRIPTION:Barockmusik wurde nach ihrem Aussterben mit Bachs Tod seit dem 
 Beginn des 19. Jahrhunderts wiederentdeckt\, ihre Aufführung nahm versch
 iedene Formen an. Harnoncourt ging mit seinem Ensemble Concentus Musicus a
 b den 1960er Jahren einen wegweisenden Weg zur Annäherung an die histori
 schen Aufführungspraxis. Gian Piero Reverberi ging einen anderen Weg\, e
 r gründete sein Ensemble „Rondò Veneziano“ 1979\, in mehr als 23 J
 ahren komponierte er gegen hundert Hits im Stile der venezianischen Barock
 musik. Neben seinen Melodien ist er dem Zuhörer auch als Ensemble in Rok
 okokostümen in Erinnerung. Klassik und Pop\, zwei Musikgenres\, die unte
 rschiedlicher nicht sein können. Kein anderes musikalisches Ensemble ist
  eine derartige künstlerische Symbiose zwischen barocker Klassik und mod
 erner Musik eingegangen. Seine Werke stürmten die Charts und blieben woc
 henlang an deren Spitze. Im heutigen Konzert stellen wir erstmalig im Konz
 ert Barock und „Moderne“ live gegenüber und reisen mit dem ensemble 
 le phénix&nbsp\; ins Venedig des frühen 18. Jahrhunderts.
LOCATION:Rudi Dadens 1\, 7018 Flims Waldhaus
URL:
DTSTART;TZID=Europe/Zurich:20260917T180000
DTEND;TZID=Europe/Zurich:20260917T191500
END:VEVENT
END:VCALENDAR