BEGIN:VCALENDAR
VERSION:2.0
PRODID:spatie/icalendar-generator
NAME:Flimsfestival
X-WR-CALNAME:Flimsfestival
BEGIN:VTIMEZONE
TZID:Europe/Zurich
BEGIN:DAYLIGHT
DTSTART:20260329T020000Z
TZOFFSETFROM:+0100
TZOFFSETTO:+0200
END:DAYLIGHT
BEGIN:STANDARD
DTSTART:20261025T030000Z
TZOFFSETFROM:+0200
TZOFFSETTO:+0100
END:STANDARD
END:VTIMEZONE
BEGIN:VTIMEZONE
TZID:UTC
BEGIN:STANDARD
DTSTART:20250612T174116Z
TZOFFSETFROM:+0000
TZOFFSETTO:+0000
END:STANDARD
END:VTIMEZONE
BEGIN:VEVENT
UID:2026-08-22-karussell
DTSTAMP:20260309T174116Z
SUMMARY:Flimsfestival: Karussell
DESCRIPTION:Anlässlich des 1. Fidazer Dorffestes\, das zur Einweihung der
  neuen Milchseilbahn viele traditionelle Handwerke und Berufe vorstellt\, 
 geben wir der historischen Musik auch einen Platz. Ein altes Karussell (oh
 ne Strom) dreht sich nur dann\, wenn Musik (live) erklingt. Noch nie haben
  wir eine solche Aktion begleitet\, sind selber gespannt und freuen uns da
 rauf\, an einem solchen Fest klassische Musik zu präsentieren. Denn allz
 u oft erklingt doch in der heutigen Zeit – im Zirkus\, auf der Chilbi\, 
 auf Märkten – keine live Musik\, dafür wird das Ohr durch maximale L
 autstärke aus der Konserve strapaziert...
LOCATION:Via da Fidaz
URL:
DTSTART;TZID=Europe/Zurich:20260822T110000
DTEND;TZID=Europe/Zurich:20260820T170000
END:VEVENT
END:VCALENDAR