BEGIN:VCALENDAR
VERSION:2.0
PRODID:spatie/icalendar-generator
NAME:Flimsfestival
X-WR-CALNAME:Flimsfestival
BEGIN:VTIMEZONE
TZID:Europe/Zurich
BEGIN:DAYLIGHT
DTSTART:20260329T020000Z
TZOFFSETFROM:+0100
TZOFFSETTO:+0200
END:DAYLIGHT
BEGIN:STANDARD
DTSTART:20261025T030000Z
TZOFFSETFROM:+0200
TZOFFSETTO:+0100
END:STANDARD
END:VTIMEZONE
BEGIN:VTIMEZONE
TZID:UTC
BEGIN:STANDARD
DTSTART:20250612T173808Z
TZOFFSETFROM:+0000
TZOFFSETTO:+0000
END:STANDARD
END:VTIMEZONE
BEGIN:VEVENT
UID:2026-08-16-hofkonzert
DTSTAMP:20260309T173808Z
SUMMARY:Flimsfestival: Hofkonzert
DESCRIPTION:Endlich musizieren wir wieder auf einem Bauernhof. Vor Mathias 
 Schmids Bio-Hof auf Scheia sitzen wir an einem langen Tisch und hören zu
 \, wie klassische Musik dort oben klingt. Zwei Welten prallen scheinbar au
 feinander\, aber vielleicht ergänzen sich auch Handarbeit\, Sorgfalt und
  Liebe zum Beruf genau hier. Im jahreszeitlichen Rhythmus zu leben hat uns
  inspiriert\, Haydns „Jahreszeiten“ zu spielen\, diesmal in einer Bear
 beitung seines Zeitgenossen Sigismund Ritter von Neukomm\, seines Zeichens
  Komponist\, Pianist\, Diplomat und möglicherweise auch Spion! Haydns Mu
 sik liegt die vierteilige Dichtung „The Seasons“ von James Thomson zug
 runde. Zwar stand Haydn der Aufforderung\, tonmalerische Elemente zu integ
 rieren\, sehr skeptisch gegenüber – dies war vor seiner Zeit sehr beli
 ebt gewesen\, inzwischen aber etwas aus der Mode geraten. Er liess sich de
 nnoch darauf ein\, und so erfreuen wir uns heute an seiner lebendigen Musi
 k\, die viele Momente und Tätigkeiten des damaligen bäuerlichen Lebens
  zum Ausdruck bringt.
LOCATION:Via da Scheia 10\, 7019 Fidaz
URL:
DTSTART;TZID=Europe/Zurich:20260816T160000
DTEND;TZID=Europe/Zurich:20260816T171000
END:VEVENT
END:VCALENDAR