BEGIN:VCALENDAR
VERSION:2.0
PRODID:spatie/icalendar-generator
NAME:Flimsfestival
X-WR-CALNAME:Flimsfestival
BEGIN:VTIMEZONE
TZID:Europe/Zurich
BEGIN:DAYLIGHT
DTSTART:20260329T020000Z
TZOFFSETFROM:+0100
TZOFFSETTO:+0200
END:DAYLIGHT
BEGIN:STANDARD
DTSTART:20261025T030000Z
TZOFFSETFROM:+0200
TZOFFSETTO:+0100
END:STANDARD
END:VTIMEZONE
BEGIN:VTIMEZONE
TZID:UTC
BEGIN:STANDARD
DTSTART:20250612T164444Z
TZOFFSETFROM:+0000
TZOFFSETTO:+0000
END:STANDARD
END:VTIMEZONE
BEGIN:VEVENT
UID:2026-08-16-eva-wey-trio-alpine-folk-music
DTSTAMP:20260309T164444Z
SUMMARY:Flimsfestival: Eva Wey Trio - Alpine Folk Music
DESCRIPTION:Volksmusik aus dem Alpenraum bedeutet himmlische Gipfel bis fur
 chteinflössende Täler in Musik verpackt. Melodien\, oft auf der Naturt
 onreihe aufgebaut\, in Vergessenheit geraten und wieder zu neuem Leben erw
 eckt. Improvisationen sind Teil des Programms und helfen\, den Geist diese
 r teilweise uraltenTanzstücke zu neuem Leben zu erwecken. Ein Grundstock
  des aktuellen Repertoires basiert auf der Sammlung «Alte Schwyzer Geigen
 tänze»\, die um 1830 von Anton Hotz (SZ) überliefert wurde. Ein wahre
 r Schweizer Musik-Schatz tut sich auf: die Sammlung gehört mit ihren ins
 gesamt 101 Tänzen zu einer der ältesten und ergiebigsten Volksmusiksam
 mlungen der Schweiz jener Zeit. Das Repertoire bildet stilistisch eine Art
  «Scharnier» zwischen der Altfrentsch-Sammlung aus Gonten/AI und frühe
 n Wiener Walzern – archaisch\, frech\, lüpfig und stampfig. Im Weitere
 n werden alte und neue Tänze aus dem Alpenraum präsentiert. Eva Weys f
 acettenreiches Geigenspiel\, kombiniert mit Gitarre und Kontrabass: das is
 t «Alpine Folk Music»!
LOCATION:Via Nova 66\, 7017 Flims Dorf
URL:
DTSTART;TZID=Europe/Zurich:20260816T110000
DTEND;TZID=Europe/Zurich:20260816T211500
END:VEVENT
END:VCALENDAR