BEGIN:VCALENDAR
VERSION:2.0
PRODID:spatie/icalendar-generator
NAME:Flimsfestival
X-WR-CALNAME:Flimsfestival
BEGIN:VTIMEZONE
TZID:Europe/Zurich
BEGIN:DAYLIGHT
DTSTART:20260329T020000Z
TZOFFSETFROM:+0100
TZOFFSETTO:+0200
END:DAYLIGHT
BEGIN:STANDARD
DTSTART:20261025T030000Z
TZOFFSETFROM:+0200
TZOFFSETTO:+0100
END:STANDARD
END:VTIMEZONE
BEGIN:VTIMEZONE
TZID:UTC
BEGIN:STANDARD
DTSTART:20250611T170122Z
TZOFFSETFROM:+0000
TZOFFSETTO:+0000
END:STANDARD
END:VTIMEZONE
BEGIN:VEVENT
UID:2026-08-15-kulturnachmittag-3
DTSTAMP:20260308T170122Z
SUMMARY:Flimsfestival: Kulturnachmittag 3 - Boccherini
DESCRIPTION:Zum Abschluss des Nachmittags Kammermusik von Luigi Boccherini.
  In einem modernen Gebäude mitten im Wald\, mit offenen Fenstern im Somm
 er\, die Vögel zwitschern dazwischen\, und wir spielen ein zur Szenerie 
 passendes Werk: L’Uccelliera. Es ist Programmmusik\, so wie Vivaldis Jah
 reszeiten (an die dieses Werk auch stark erinnert)\, erstaunlicherweise vo
 ̈llig unbekannt geblieben. Dies ändern wir heute...
LOCATION:Salums Sura\, 7032 Laax
URL:
DTSTART;TZID=Europe/Zurich:20260815T163000
DTEND;TZID=Europe/Zurich:20260815T172000
END:VEVENT
END:VCALENDAR