BEGIN:VCALENDAR
VERSION:2.0
PRODID:spatie/icalendar-generator
NAME:Flimsfestival
X-WR-CALNAME:Flimsfestival
BEGIN:VTIMEZONE
TZID:Europe/Zurich
BEGIN:DAYLIGHT
DTSTART:20260329T020000Z
TZOFFSETFROM:+0100
TZOFFSETTO:+0200
END:DAYLIGHT
BEGIN:STANDARD
DTSTART:20261025T030000Z
TZOFFSETFROM:+0200
TZOFFSETTO:+0100
END:STANDARD
END:VTIMEZONE
BEGIN:VTIMEZONE
TZID:UTC
BEGIN:STANDARD
DTSTART:20250611T165648Z
TZOFFSETFROM:+0000
TZOFFSETTO:+0000
END:STANDARD
END:VTIMEZONE
BEGIN:VEVENT
UID:2026-08-15-kulturnachmittag-2-enael
DTSTAMP:20260308T165648Z
SUMMARY:Flimsfestival: Kulturnachmittag 2 - Enaël
DESCRIPTION:Das Spektakel „Imagination“ der beiden Musi- kerinnen Léa
  Hennet und Anne Laure Dottrens aus der Suisse Romande dreht sich um die F
 ra- ge „Was ist die Vorstellungskraft?». Mit Hu- mor\, Zärtlichkeit\,
  manchmal auch Ärger debattieren die beiden über das Thema\, wenn sie 
 nicht gerade ihre eigene Vorstellungskraft und diejenige des Publikums auf
  ihren Instrumenten Violine und Viola zum Klingen bringen. Die Performance
  lebt vom Ausdruck verschiedener Kunstformen\, von der Präsenz der beide
 n Künstlerinnen\, von wenigen Requisiten und von grossartiger Musik im K
 leinformat.&nbsp\;
LOCATION:Salums Sura\, 7032 Laax
URL:
DTSTART;TZID=Europe/Zurich:20260815T144500
DTEND;TZID=Europe/Zurich:20260815T153500
END:VEVENT
END:VCALENDAR