BEGIN:VCALENDAR
VERSION:2.0
PRODID:spatie/icalendar-generator
NAME:Flimsfestival
X-WR-CALNAME:Flimsfestival
BEGIN:VTIMEZONE
TZID:Europe/Zurich
BEGIN:DAYLIGHT
DTSTART:20260329T020000Z
TZOFFSETFROM:+0100
TZOFFSETTO:+0200
END:DAYLIGHT
BEGIN:STANDARD
DTSTART:20261025T030000Z
TZOFFSETFROM:+0200
TZOFFSETTO:+0100
END:STANDARD
END:VTIMEZONE
BEGIN:VTIMEZONE
TZID:UTC
BEGIN:STANDARD
DTSTART:20250611T164947Z
TZOFFSETFROM:+0000
TZOFFSETTO:+0000
END:STANDARD
END:VTIMEZONE
BEGIN:VEVENT
UID:2026-08-15-kulturnachmittag-1-lyrix
DTSTAMP:20260308T164947Z
SUMMARY:Flimsfestival: Kulturnachmittag 1 -  Lyrix
DESCRIPTION:Wir beginnen den Kulturnachmittag mit dem Ensemble Lyrix um die
  Bündner Sängerin Nora Bertogg. Die Vereinigung von Stimme\, Cello und
  Harfe eröffnet unbekannte Klangwelten und in- spiriert zu neuem Reperto
 ire. Das Ensemble setzt bewusst auf eigene Bearbeitungen\, um bisher unent
 deckte Stücke für diese einzigartige Besetzung zu erforschen und somit
  kontinuier- lich neue musikalische Wege einzuschlagen. Im Rahmen ihres sz
 enischen Programms „Obscura“ präsentieren die drei Ausführenden Mu
 sik des 20. und 21.Jahrhunderts sowie eine Uraufführung von Ryan Latimer
 . Inszeniert wird das Projekt durch die österreichische Regisseurin Sara
 h Scherer.
LOCATION:Salums Sura\, 7032 Laax
URL:
DTSTART;TZID=Europe/Zurich:20260815T130000
DTEND;TZID=Europe/Zurich:20260815T135000
END:VEVENT
END:VCALENDAR