BEGIN:VCALENDAR
VERSION:2.0
PRODID:spatie/icalendar-generator
NAME:Flimsfestival
X-WR-CALNAME:Flimsfestival
BEGIN:VTIMEZONE
TZID:Europe/Zurich
BEGIN:DAYLIGHT
DTSTART:20260329T020000Z
TZOFFSETFROM:+0100
TZOFFSETTO:+0200
END:DAYLIGHT
BEGIN:STANDARD
DTSTART:20261025T030000Z
TZOFFSETFROM:+0200
TZOFFSETTO:+0100
END:STANDARD
END:VTIMEZONE
BEGIN:VTIMEZONE
TZID:UTC
BEGIN:STANDARD
DTSTART:20250611T153916Z
TZOFFSETFROM:+0000
TZOFFSETTO:+0000
END:STANDARD
END:VTIMEZONE
BEGIN:VEVENT
UID:2026-08-14-jezik-srca-sprache-des-herzens
DTSTAMP:20260308T153916Z
SUMMARY:Flimsfestival: Jezik Srca – Sprache des Herzens
DESCRIPTION:Dieses vielfältige Liedprogramm wurde von der Schweizer Opern
 sängerin Jelena Dojčinović mit dem Wunsch\, auf ihrer bosnisch- serb
 okroatischen Muttersprache zu singen\, ins Leben gerufen. Mit der slowenis
 chen Pianistin Urška Strekelj gesellt sich eine Partnerin mit ebenbürt
 igem Temperament und Gefühl für den balkanischen Melos dazu. Zusammen 
 durchqueren die beiden Musikerinnen klassische Literatur der südslawisch
 en Region\, von ganz unbekannten Kunstliedern bis zu klassischen Bearbeitu
 ngen bekannter Melodien wie Sevdalinke\, Kolo\, Walzer und Polkas. Die Spr
 ache des Herzens ist die\, welche einem am natürlichsten kommt\; wo die 
 Seele von der ersten Sekunde an mitschwingt. Gleichzeitig ist es die Sprac
 he der Versöhnung statt Verfeindung\, welche Gemeinsamkeiten betont und 
 Unterschiede feiert\, statt zu spalten. Schliesslich sind es Liebe\, Sehns
 ucht\, Jugend und Vergänglichkeit\, Trauer und Freude Themen\, die jeden
  Menschen berühren. So hat dieses Programm eine sehr individuelle und gl
 eichzeitig universelle Bedeutung und begeistert alle\, die offen für Neu
 entdeckungen sind.
LOCATION:Via Principala 44\, 7014 Trin
URL:
DTSTART;TZID=Europe/Zurich:20260814T193000
DTEND;TZID=Europe/Zurich:20260814T204500
END:VEVENT
END:VCALENDAR