BEGIN:VCALENDAR
VERSION:2.0
PRODID:spatie/icalendar-generator
NAME:Flimsfestival
X-WR-CALNAME:Flimsfestival
BEGIN:VTIMEZONE
TZID:Europe/Zurich
BEGIN:DAYLIGHT
DTSTART:20260329T020000Z
TZOFFSETFROM:+0100
TZOFFSETTO:+0200
END:DAYLIGHT
BEGIN:STANDARD
DTSTART:20261025T030000Z
TZOFFSETFROM:+0200
TZOFFSETTO:+0100
END:STANDARD
END:VTIMEZONE
BEGIN:VTIMEZONE
TZID:UTC
BEGIN:STANDARD
DTSTART:20250611T150930Z
TZOFFSETFROM:+0000
TZOFFSETTO:+0000
END:STANDARD
END:VTIMEZONE
BEGIN:VEVENT
UID:2026-08-13-barbican-quartet
DTSTAMP:20260308T150930Z
SUMMARY:Flimsfestival: Barbican Quartet
DESCRIPTION:Vier internationale Musiker\, vier einzigartige Persönlichkei
 ten\, ein Streichquartett: Das Barbican Quartett verkörpert eine origine
 lle Stimme der Kammermusikszene\, die das Publikum mit ihren innigen\, kra
 ftvollen Darbietungen und ihrem virtuosen Zusammenspiel begeistert. Die vi
 er Musiker*innen bringen ihre individuellen Stärken in das gemeinsame Sp
 iel\, um das bekannte und bedeutende Streichquartett Repertoire\, aber auc
 h zeitgenössische Musik zu vereinen und zu vermitteln. Das englische Str
 eichquartett hat nicht nur den 71. ARD- Wettbewerb gewonnen\, auch viele a
 ndere Preise würdigen die Leistung der jungen Musiker*innen\, ihren homo
 genen Klang\, die Brillanz jedes Einzelnen\, ihren Enthusiasmus und Qualit
 ät. Das Ensemble gastiert bei internationalen Festivals – und bei Flim
 sfestival! Wir hören sie mit einem klassischen Programm\, das die Tonart
 en d-Moll und D-Dur gegenüberstellt und drei ganz grosse Streichquartett
 -Komponisten vereint.Zu Beginn Haydn: nach dem Erscheinen seiner Streichqu
 artette op. 20 war im „Historisch- biographischen Lexicon der Tonkünst
 ler“ nachzulesen: „Von dieser Nummer an erscheint Haydn in seiner ganz
 en Grösse als Quartettenkomponist”. Auch Mozart bemühte sich um Ruhm
  und Ehre mit der Komposition seiner „Preussischen Quartette“: Er schr
 ieb sie für den Cello spielenden Monarchen Friedrich Wilhelm II\, allerd
 ings ohne dessen ausdrücklichen Auftrag. Die so genannten „Preussische
 n Quartette“ sind also weit weniger preussisch als es scheint. Die einzi
 ge erkennbare Spur\, die der Preussenkönig in den Stücken hinterlassen
  hat\, ist die prominente Stellung des Violoncellos. Zum Schluss des Progr
 amms Schuberts berühmtestes Streichquartett „Der Tod und das Mädchen
 “\, ein Achttausender der Quartett-Literatur\, in dem die vier Musiker*i
 nnen brillieren werden...
LOCATION:Davont Esch\, 7017 Flims Dorf
URL:
DTSTART;TZID=Europe/Zurich:20260813T200000
DTEND;TZID=Europe/Zurich:20260813T220000
END:VEVENT
END:VCALENDAR