BEGIN:VCALENDAR
VERSION:2.0
PRODID:spatie/icalendar-generator
NAME:Flimsfestival
X-WR-CALNAME:Flimsfestival
BEGIN:VTIMEZONE
TZID:Europe/Zurich
BEGIN:STANDARD
DTSTART:20251026T030000Z
TZOFFSETFROM:+0200
TZOFFSETTO:+0100
END:STANDARD
BEGIN:DAYLIGHT
DTSTART:20260329T020000Z
TZOFFSETFROM:+0100
TZOFFSETTO:+0200
END:DAYLIGHT
BEGIN:STANDARD
DTSTART:20261025T030000Z
TZOFFSETFROM:+0200
TZOFFSETTO:+0100
END:STANDARD
END:VTIMEZONE
BEGIN:VTIMEZONE
TZID:UTC
BEGIN:STANDARD
DTSTART:20250610T081551Z
TZOFFSETFROM:+0000
TZOFFSETTO:+0000
END:STANDARD
END:VTIMEZONE
BEGIN:VEVENT
UID:2026-07-20-montags-im-museum
DTSTAMP:20260307T081551Z
SUMMARY:Flimsfestival: montags im Museum
DESCRIPTION:In diesem Jahr präsentiert sich „Das Gelbe Haus“ auf eine 
 sehr aussergewöhnliche Weise: Das Haus wird zur Bühne\, was uns auch zu 
 einem aussergewöhnlichen Konzert bewogen hat Wir erteilen eine Carte Blan
 che an Jürgen Grözinger alias DJ Jueri. Der in Berlin lebende Musiker\
 , Komponist\, Kurator und Klanginnovator verbindet in seiner Arbeit klassi
 sche Perkussion und zeitgenössische Musik mit immersiven Klangwelten und
  hebt mit seinen „Listenig Lounges“ Genregrenzen auf. Dabei lässt er
  sich stets von Publikum\, Raum und Zeit inspirieren und ist unterwegs zwi
 schen den Menschen\, Ideen\, Zeiten und Klanggewohnheiten. Der innovative 
 Künstler gilt als DER Klassik-DJ und hat mit renommierten Kulturinstitut
 ionen\, Ensembles und Künstler*innen wie Hélène Grimaud oder Janine 
 Jansen zusammengearbeitet\, genauso hat er in legendären Clubs wie dem B
 erghain und dem Watergate gespielt. Jürgen Grözinger ist ausserdem Gru
 ̈nder und künstlerischer Leiter des European Music Projekts\, das sich 
 mit der Schnittstelle zwischen zeitgenössischer Musik\, Improvisation\, 
 Performance und Clubkultur beschäftigt. Der Abend im Gelben Haus bewegt 
 sich zwischen konzentriertem Zuhören und entspannter Atmosphäre - ein 
 Raum\, in dem Geschichte und Gegenwart ineinander übergehen. Ein Konzert
 \, das sich selbst erfindet an einem Ort\, der schon in Kürze wieder gan
 z anders aussehen wird - eine einmalige Gelegenheit!
LOCATION:Via Nova 60\, 7017 Flims Dorf
URL:
DTSTART;TZID=Europe/Zurich:20260720T200000
DTEND;TZID=Europe/Zurich:20260720T211000
END:VEVENT
END:VCALENDAR